BEGIN:VCALENDAR
VERSION:2.0
PRODID:-//Fêtes de la Chartreuse - ECPv6.15.18//NONSGML v1.0//EN
CALSCALE:GREGORIAN
METHOD:PUBLISH
X-ORIGINAL-URL:https://fetesdelachartreuse.fr
X-WR-CALDESC:Évènements pour Fêtes de la Chartreuse
REFRESH-INTERVAL;VALUE=DURATION:PT1H
X-Robots-Tag:noindex
X-PUBLISHED-TTL:PT1H
BEGIN:VTIMEZONE
TZID:Europe/Paris
BEGIN:DAYLIGHT
TZOFFSETFROM:+0100
TZOFFSETTO:+0200
TZNAME:CEST
DTSTART:20250330T010000
END:DAYLIGHT
BEGIN:STANDARD
TZOFFSETFROM:+0200
TZOFFSETTO:+0100
TZNAME:CET
DTSTART:20251026T010000
END:STANDARD
BEGIN:DAYLIGHT
TZOFFSETFROM:+0100
TZOFFSETTO:+0200
TZNAME:CEST
DTSTART:20260329T010000
END:DAYLIGHT
BEGIN:STANDARD
TZOFFSETFROM:+0200
TZOFFSETTO:+0100
TZNAME:CET
DTSTART:20261025T010000
END:STANDARD
BEGIN:DAYLIGHT
TZOFFSETFROM:+0100
TZOFFSETTO:+0200
TZNAME:CEST
DTSTART:20270328T010000
END:DAYLIGHT
BEGIN:STANDARD
TZOFFSETFROM:+0200
TZOFFSETTO:+0100
TZNAME:CET
DTSTART:20271031T010000
END:STANDARD
END:VTIMEZONE
BEGIN:VEVENT
DTSTART;TZID=Europe/Paris:20260517T143000
DTEND;TZID=Europe/Paris:20260517T160000
DTSTAMP:20260421T185130
CREATED:20260409T125631Z
LAST-MODIFIED:20260420T144037Z
UID:19571-1779028200-1779033600@fetesdelachartreuse.fr
SUMMARY:Visite guidée du musée de la Grande Chartreuse
DESCRIPTION:Avec nos guides\, venez découvrir l’histoire de l’Ordre des chartreux et le mode de vie des moines. \n— \nInformations pratiques \nTarif : 12€\, 5€ tarif réduit \nInscription / Réservation : https://museegrandechartreuse.addock.co/ \n 
URL:https://fetesdelachartreuse.fr/programme/visite-guidee-du-musee-de-la-grande-chartreuse-5/
LOCATION:Musée de la Grande Chartreuse\, 670 route du désert\, Saint-Pierre-de-Chartreuse\, 38380\, France
CATEGORIES:Visite, balade
ATTACH;FMTTYPE=image/jpeg:https://fetesdelachartreuse.fr/wp-content/uploads/2026/04/Visite-guidee-scaled.jpg
END:VEVENT
BEGIN:VEVENT
DTSTART;TZID=Europe/Paris:20260517T143000
DTEND;TZID=Europe/Paris:20260517T160000
DTSTAMP:20260421T185130
CREATED:20260410T110820Z
LAST-MODIFIED:20260414T091721Z
UID:19768-1779028200-1779033600@fetesdelachartreuse.fr
SUMMARY:Atelier « Élixirs : de la tradition à nos jours\, des remèdes aux bienfaits multiples »
DESCRIPTION:De l’Élixir Végétal de la Grande Chartreuse aux élixirs contemporains\, retracez l’histoire d’un mot chargé de promesses. Remède\, extrait végétal\, parfum : comment ces préparations ont-elles évolué ? Entre savoir-faire\, fabrication et symbolique\, nous explorerons ce que signifie encore « soigner » par les plantes. \n— \nInformations pratiques \nTarif : 10€* \nInscription / Réservation : https://www.chartreuse.fr/fetes-de-la-chartreuse-2026 \nPublic : Atelier destiné à un public majeur \n— \nÀ savoir \nHoraires : 10h30 et 14h30 \n*Les fonds recueillis seront reversés à l’Association pour la Valorisation du Patrimoine Cartusien chargée de la réhabilitation du patrimoine bâti de l’Ordre des chartreux
URL:https://fetesdelachartreuse.fr/programme/atelier-elixirs-de-la-tradition-a-nos-jours-des-remedes-aux-bienfaits-multiples-2/
LOCATION:Caves de la Chartreuse\, 10 Bd Edgar Kofler\, Voiron\, 38500\, France
CATEGORIES:Atelier
ATTACH;FMTTYPE=image/jpeg:https://fetesdelachartreuse.fr/wp-content/uploads/2026/04/Visuel-FDLC.jpg
END:VEVENT
BEGIN:VEVENT
DTSTART;TZID=Europe/Paris:20260517T143000
DTEND;TZID=Europe/Paris:20260517T160000
DTSTAMP:20260421T185130
CREATED:20260410T125921Z
LAST-MODIFIED:20260417T071224Z
UID:19787-1779028200-1779033600@fetesdelachartreuse.fr
SUMMARY:Visite de l’église Saint-Bruno
DESCRIPTION:Les moines chartreux apportèrent une contribution financière à la construction de l’église Saint-Bruno classée monument historique. C’est en remerciement à l’Ordre cartusien que l’église prit le nom de son fondateur Saint-Bruno. \n— \nInformations pratiques \nTarif : Gratuit \nInscription / Réservation : Ci-dessous à partir du 20 avril
URL:https://fetesdelachartreuse.fr/programme/visite-de-leglise-saint-bruno/
LOCATION:Parvis de l’église Saint-Bruno\, Place de la république\, Voiron\, 38500\, France
CATEGORIES:Visite, balade
ATTACH;FMTTYPE=image/jpeg:https://fetesdelachartreuse.fr/wp-content/uploads/2026/04/Voiron17mai-1-scaled.jpg
END:VEVENT
BEGIN:VEVENT
DTSTART;TZID=Europe/Paris:20260517T150000
DTEND;TZID=Europe/Paris:20260517T163000
DTSTAMP:20260421T185130
CREATED:20260410T124108Z
LAST-MODIFIED:20260420T144042Z
UID:19772-1779030000-1779035400@fetesdelachartreuse.fr
SUMMARY:Atelier familial « Dessine ta chartreuse »
DESCRIPTION:Le musée de la Grande Chartreuse abrite la collection des Cartes de chartreuse\, 79 cartes datant du XVIIe et du XVIIIe siècles représentant différents monastères de l’Ordre à travers l’Europe. Après la découverte de cette collection\, venez\, en famille\, peindre votre propre chartreuse. \n— \nInformations pratiques \nTarif : 10€\, 5€ tarif réduit \nInscription / Réservation : https://museegrandechartreuse.addock.co/ \n 
URL:https://fetesdelachartreuse.fr/programme/atelier-familial-dessine-ta-chartreuse/
LOCATION:Musée de la Grande Chartreuse\, 670 route du désert\, Saint-Pierre-de-Chartreuse\, 38380\, France
CATEGORIES:Atelier
ATTACH;FMTTYPE=image/jpeg:https://fetesdelachartreuse.fr/wp-content/uploads/2026/04/Grande-Chartreuse-Cartes-scaled.jpg
END:VEVENT
BEGIN:VEVENT
DTSTART;TZID=Europe/Paris:20260517T151500
DTEND;TZID=Europe/Paris:20260517T163000
DTSTAMP:20260421T185130
CREATED:20260410T130321Z
LAST-MODIFIED:20260417T071213Z
UID:19788-1779030900-1779035400@fetesdelachartreuse.fr
SUMMARY:Visite de l’Orgue de l’église Saint-Bruno
DESCRIPTION:Visite animée par Christine BIN\, organiste. \n— \nInformations pratiques \nTarif : Participation libre \nInscription / Réservation : Ci-dessous à partir du 20 avril \n— \nÀ savoir \nHoraires : 15h15 et 16h
URL:https://fetesdelachartreuse.fr/programme/visite-de-lorgue-de-leglise-saint-bruno-4/
LOCATION:Église Saint-Bruno\, Voiron\, Pl. de la République\, Voiron\, 38500\, France
CATEGORIES:Visite, balade
ATTACH;FMTTYPE=image/jpeg:https://fetesdelachartreuse.fr/wp-content/uploads/2026/04/orgue-de-Voiron-scaled.jpg
END:VEVENT
BEGIN:VEVENT
DTSTART;TZID=Europe/Paris:20260517T153000
DTEND;TZID=Europe/Paris:20260517T160000
DTSTAMP:20260421T185130
CREATED:20260409T103716Z
LAST-MODIFIED:20260413T131700Z
UID:19500-1779031800-1779033600@fetesdelachartreuse.fr
SUMMARY:Spectacle de cirque contemporain « Le poids des nuages »
DESCRIPTION:Deux acrobates\, une échelle et un trampoline : l’acronet ! Les artistes transportent le public dans le rêve d’Icare : celui de voler. Entre chutes et mouvements\, il est question de persévérance\, de dépassement et de l’envie de se réinventer. Bienvenue dans un espace où déséquilibrer les codes pour s’ancrer ouvre le champ des possibles… \n— \nInformations pratiques \nTarif : Gratuit \n— \nÀ savoir \nReprésentations : \n\nSaint-Laurent-du-Pont : 13 mai à 18h (30 min)\nEntre-Deux-Guiers : 15 mai à 15h (30 min)\nCaves de la Chartreuse : 16 mai à 17h30 (30 min)\nSaint-Pierre-de-Chartreuse : 17 mai à 15h30 (30 min)
URL:https://fetesdelachartreuse.fr/programme/spectacle-de-cirque-contemporain-le-poids-des-nuages-4/
LOCATION:Jardin du Père Truffaut\, Jardin du Père Truffaut\, Saint-Pierre-de-Chartreuse\, 38380\, France
CATEGORIES:Spectacle
ATTACH;FMTTYPE=image/jpeg:https://fetesdelachartreuse.fr/wp-content/uploads/2026/04/03-Le-poids-des-nuages-©-Caillou-scaled.jpg
END:VEVENT
BEGIN:VEVENT
DTSTART;TZID=Europe/Paris:20260517T163000
DTEND;TZID=Europe/Paris:20260517T180000
DTSTAMP:20260421T185130
CREATED:20260410T130549Z
LAST-MODIFIED:20260417T071151Z
UID:19789-1779035400-1779040800@fetesdelachartreuse.fr
SUMMARY:Visite de l’église Saint-Bruno et de ses vitraux
DESCRIPTION:Découvrir les détails des vitraux de l’église Saint-Bruno. \n— \nInformations pratiques \nTarif : Gratuit \nInscription / Réservation : Ci-dessous à partir du 20 avril
URL:https://fetesdelachartreuse.fr/programme/visite-de-leglise-saint-bruno-et-de-ses-vitraux/
LOCATION:Parvis de l’église Saint-Bruno\, Place de la république\, Voiron\, 38500\, France
CATEGORIES:Visite, balade
ATTACH;FMTTYPE=image/jpeg:https://fetesdelachartreuse.fr/wp-content/uploads/2026/04/vitraux-SB-scaled.jpg
END:VEVENT
BEGIN:VEVENT
DTSTART;TZID=Europe/Paris:20260518T150000
DTEND;TZID=Europe/Paris:20260520T180000
DTSTAMP:20260421T185130
CREATED:20260409T102559Z
LAST-MODIFIED:20260413T131700Z
UID:19485-1779116400-1779300000@fetesdelachartreuse.fr
SUMMARY:Grands jeux en bois
DESCRIPTION:Jeux d’adresse\, de coopération et de réflexion en famille\, en équipe ou en solo. \n— \nInformations pratiques \nTarif : Gratuit \nPublic : Pour petits et grands\, tout âge
URL:https://fetesdelachartreuse.fr/programme/grands-jeux-en-bois-2/
LOCATION:Parc de la Mairie de Saint-Laurent-du-Pont\, Parc de la mairie\, Saint-Laurent-du-Pont
CATEGORIES:Jeu, activité jeune
ATTACH;FMTTYPE=image/jpeg:https://fetesdelachartreuse.fr/wp-content/uploads/2026/04/Visuel-FDLC.jpg
END:VEVENT
END:VCALENDAR