BEGIN:VCALENDAR
VERSION:2.0
PRODID:-//Fêtes de la Chartreuse - ECPv6.15.18//NONSGML v1.0//EN
CALSCALE:GREGORIAN
METHOD:PUBLISH
X-ORIGINAL-URL:https://fetesdelachartreuse.fr
X-WR-CALDESC:Évènements pour Fêtes de la Chartreuse
REFRESH-INTERVAL;VALUE=DURATION:PT1H
X-Robots-Tag:noindex
X-PUBLISHED-TTL:PT1H
BEGIN:VTIMEZONE
TZID:Europe/Paris
BEGIN:DAYLIGHT
TZOFFSETFROM:+0100
TZOFFSETTO:+0200
TZNAME:CEST
DTSTART:20250330T010000
END:DAYLIGHT
BEGIN:STANDARD
TZOFFSETFROM:+0200
TZOFFSETTO:+0100
TZNAME:CET
DTSTART:20251026T010000
END:STANDARD
BEGIN:DAYLIGHT
TZOFFSETFROM:+0100
TZOFFSETTO:+0200
TZNAME:CEST
DTSTART:20260329T010000
END:DAYLIGHT
BEGIN:STANDARD
TZOFFSETFROM:+0200
TZOFFSETTO:+0100
TZNAME:CET
DTSTART:20261025T010000
END:STANDARD
BEGIN:DAYLIGHT
TZOFFSETFROM:+0100
TZOFFSETTO:+0200
TZNAME:CEST
DTSTART:20270328T010000
END:DAYLIGHT
BEGIN:STANDARD
TZOFFSETFROM:+0200
TZOFFSETTO:+0100
TZNAME:CET
DTSTART:20271031T010000
END:STANDARD
END:VTIMEZONE
BEGIN:VEVENT
DTSTART;VALUE=DATE:20260511
DTEND;VALUE=DATE:20260518
DTSTAMP:20260421T172352
CREATED:20260407T130100Z
LAST-MODIFIED:20260413T131708Z
UID:19357-1778457600-1779062399@fetesdelachartreuse.fr
SUMMARY:Exposition Fêtes de la Chartreuse
DESCRIPTION:Repartez à l’origine des Fêtes\, témoignage vivant du Pacte d’Amitié Chartreuse\, conjuguant convivialité et réjouissances pour s’inscrire dans une forte tradition d’attachement aux produits monastiques et à leurs anciens sites de production. \n— \nInformations pratiques \nTarif : Gratuit
URL:https://fetesdelachartreuse.fr/programme/exposition-fetes-de-la-chartreuse-2/
LOCATION:Caves de la Chartreuse\, 10 Bd Edgar Kofler\, Voiron\, 38500\, France
CATEGORIES:Exposition
ATTACH;FMTTYPE=image/jpeg:https://fetesdelachartreuse.fr/wp-content/uploads/2025/04/188-scaled.jpg
END:VEVENT
BEGIN:VEVENT
DTSTART;VALUE=DATE:20260511
DTEND;VALUE=DATE:20260518
DTSTAMP:20260421T172352
CREATED:20260407T145439Z
LAST-MODIFIED:20260413T131708Z
UID:19359-1778457600-1779062399@fetesdelachartreuse.fr
SUMMARY:Bar à cocktails Chartreuse®
DESCRIPTION:Ouverture prolongée du bar certains jours de la semaine des Fêtes de la Chartreuse : \n\nDu lundi au mercredi : 11h à 19h30 ;\nJeudi : 11h à 17h ;\nVendredi : 11h à 16h et 17h30 à 19h30 ;\nSamedi : 11h à 16h45 ;\nDimanche : 11h à 19h30.
URL:https://fetesdelachartreuse.fr/programme/bar-a-cocktails-chartreuse/
LOCATION:Caves de la Chartreuse\, 10 Bd Edgar Kofler\, Voiron\, 38500\, France
CATEGORIES:Animation cocktail
ATTACH;FMTTYPE=image/jpeg:https://fetesdelachartreuse.fr/wp-content/uploads/2026/04/VOIRON_BAR_Bar_a_cocktails@Pascal-Flamant_OK-scaled.jpg
END:VEVENT
BEGIN:VEVENT
DTSTART;VALUE=DATE:20260511
DTEND;VALUE=DATE:20260525
DTSTAMP:20260421T172352
CREATED:20260408T154408Z
LAST-MODIFIED:20260413T131708Z
UID:19397-1778457600-1779667199@fetesdelachartreuse.fr
SUMMARY:Exposition de photos « Le Patrimoine hydraulique en chartreuse »
DESCRIPTION:Venez découvrir les photographies des participants du concours photos sur le thème « Le patrimoine hydraulique en chartreuse ». \n— \nInformations pratiques \nTarif : Gratuit
URL:https://fetesdelachartreuse.fr/programme/exposition-de-photos-le-patrimoine-hydraulique-en-chartreuse/
LOCATION:Parc de la Mairie de Saint-Laurent-du-Pont\, Parc de la mairie\, Saint-Laurent-du-Pont
CATEGORIES:Exposition
ATTACH;FMTTYPE=image/jpeg:https://fetesdelachartreuse.fr/wp-content/uploads/2026/04/Visuel-FDLC.jpg
END:VEVENT
BEGIN:VEVENT
DTSTART;VALUE=DATE:20260511
DTEND;VALUE=DATE:20260525
DTSTAMP:20260421T172352
CREATED:20260409T083852Z
LAST-MODIFIED:20260413T131708Z
UID:19413-1778457600-1779667199@fetesdelachartreuse.fr
SUMMARY:Exposition « De la pierre à la prière\, regard sur le patrimoine bâti de l’Ordre des Chartreux »
DESCRIPTION:À travers une architecture sobre et fonctionnelle\, les monastères de l’Ordre des Chartreux\, souvent nichés dans des sites isolés\, symbolisent une quête spirituelle de solitude et de contemplation. Venez découvrir la richesse de ce patrimoine bâti unique\, où prière et travail se rejoignent. \n— \nInformations pratiques \nTarif : Gratuit
URL:https://fetesdelachartreuse.fr/programme/exposition-de-la-pierre-a-la-priere-regard-sur-le-patrimoine-bati-de-lordre-des-chartreux/
LOCATION:Jardin de Ville de Voiron\, 32 Rue Mainssieux\, Voiron\, 38500\, France
CATEGORIES:Exposition
ATTACH;FMTTYPE=image/jpeg:https://fetesdelachartreuse.fr/wp-content/uploads/2026/04/8Fi3_Monastere-Grande-Chartreuse-scaled.jpg
END:VEVENT
BEGIN:VEVENT
DTSTART;VALUE=DATE:20260511
DTEND;VALUE=DATE:20260526
DTSTAMP:20260421T172352
CREATED:20260409T084850Z
LAST-MODIFIED:20260413T131708Z
UID:19437-1778457600-1779753599@fetesdelachartreuse.fr
SUMMARY:De béton et de lumière\, un inventaire du patrimoine religieux du XXe siècle en  Isère
DESCRIPTION:À l’heure où l’on s’interroge en France sur le devenir de nombreux lieux de culte\, le Département s’est attaché à recenser et documenter les édifices et les œuvres d’art religieux réalisés au XXe siècle en Isère. Ce travail d’inventaire a été réalisé en partenariat avec l’Association diocésaine de Grenoble\, propriétaire de la majorité des églises construites après 1905. Le corpus rassemble près d’une centaine de sites bâtis au XXe siècle et autant d’églises antérieures décorées\, remeublées ou réaménagées durant cette période. \n— \nInformations pratiques \nTarif : Gratuit \n— \nÀ savoir \nHoraires de la médiathèque : \n\nLundi\, 14h à 18h\nMardi\, 15h à 19h\nMercredi\, 10h à 18h\nVendredi\, 13h à 19h\nSamedi\, 10h à 12h et 14h à 18h
URL:https://fetesdelachartreuse.fr/programme/de-beton-et-de-lumiere-un-inventaire-du-patrimoine-religieux-du-xxe-siecle-en-isere/
LOCATION:Médiathèque Philippe Vial de Voiron\, 5 Boulevard Edgar Kofler\, Voiron\, 38500\, France
CATEGORIES:Exposition
ATTACH;FMTTYPE=image/png:https://fetesdelachartreuse.fr/wp-content/uploads/2026/04/Grenoble_Maison-de-lArchitecture-de-lIsere_DE-BETON-ET-DE-LUMIERE.png
END:VEVENT
BEGIN:VEVENT
DTSTART;TZID=Europe/Paris:20260511T100000
DTEND;TZID=Europe/Paris:20260517T162000
DTSTAMP:20260421T172352
CREATED:20260407T124518Z
LAST-MODIFIED:20260414T091425Z
UID:19348-1778493600-1779034800@fetesdelachartreuse.fr
SUMMARY:Visite du site touristique et culturel des Caves de la Chartreuse
DESCRIPTION:Découvrez l’univers de la liqueur à un tarif attractif le temps des fêtes. Parcourez les espaces muséographiques qui retracent les grandes périodes de l’histoire de 1084 à nos jours\, valorisent le savoir-faire des moines chartreux et font la part belle aux plantes ainsi qu’au massif. \n— \nInformations pratiques \nTarif : 6€ \nInscription / Réservation : https://www.chartreuse.fr/fetes-de-la-chartreuse-2026 \nPublic : À partir de 10 ans
URL:https://fetesdelachartreuse.fr/programme/visite-du-site-touristique-et-culturel-des-caves-de-la-chartreuse-2/
LOCATION:Caves de la Chartreuse\, 10 Bd Edgar Kofler\, Voiron\, 38500\, France
CATEGORIES:Visite, balade
ATTACH;FMTTYPE=image/jpeg:https://fetesdelachartreuse.fr/wp-content/uploads/2025/04/SM05AQT-1-scaled.jpg
END:VEVENT
END:VCALENDAR