BEGIN:VCALENDAR
VERSION:2.0
PRODID:-//Fêtes de la Chartreuse - ECPv6.15.18//NONSGML v1.0//EN
CALSCALE:GREGORIAN
METHOD:PUBLISH
X-WR-CALNAME:Fêtes de la Chartreuse
X-ORIGINAL-URL:https://fetesdelachartreuse.fr
X-WR-CALDESC:Évènements pour Fêtes de la Chartreuse
REFRESH-INTERVAL;VALUE=DURATION:PT1H
X-Robots-Tag:noindex
X-PUBLISHED-TTL:PT1H
BEGIN:VTIMEZONE
TZID:Europe/Paris
BEGIN:DAYLIGHT
TZOFFSETFROM:+0100
TZOFFSETTO:+0200
TZNAME:CEST
DTSTART:20250330T010000
END:DAYLIGHT
BEGIN:STANDARD
TZOFFSETFROM:+0200
TZOFFSETTO:+0100
TZNAME:CET
DTSTART:20251026T010000
END:STANDARD
BEGIN:DAYLIGHT
TZOFFSETFROM:+0100
TZOFFSETTO:+0200
TZNAME:CEST
DTSTART:20260329T010000
END:DAYLIGHT
BEGIN:STANDARD
TZOFFSETFROM:+0200
TZOFFSETTO:+0100
TZNAME:CET
DTSTART:20261025T010000
END:STANDARD
BEGIN:DAYLIGHT
TZOFFSETFROM:+0100
TZOFFSETTO:+0200
TZNAME:CEST
DTSTART:20270328T010000
END:DAYLIGHT
BEGIN:STANDARD
TZOFFSETFROM:+0200
TZOFFSETTO:+0100
TZNAME:CET
DTSTART:20271031T010000
END:STANDARD
END:VTIMEZONE
BEGIN:VEVENT
DTSTART;VALUE=DATE:20260511
DTEND;VALUE=DATE:20260518
DTSTAMP:20260421T183703
CREATED:20260407T130100Z
LAST-MODIFIED:20260413T131708Z
UID:19357-1778457600-1779062399@fetesdelachartreuse.fr
SUMMARY:Exposition Fêtes de la Chartreuse
DESCRIPTION:Repartez à l’origine des Fêtes\, témoignage vivant du Pacte d’Amitié Chartreuse\, conjuguant convivialité et réjouissances pour s’inscrire dans une forte tradition d’attachement aux produits monastiques et à leurs anciens sites de production. \n— \nInformations pratiques \nTarif : Gratuit
URL:https://fetesdelachartreuse.fr/programme/exposition-fetes-de-la-chartreuse-2/
LOCATION:Caves de la Chartreuse\, 10 Bd Edgar Kofler\, Voiron\, 38500\, France
CATEGORIES:Exposition
ATTACH;FMTTYPE=image/jpeg:https://fetesdelachartreuse.fr/wp-content/uploads/2025/04/188-scaled.jpg
END:VEVENT
BEGIN:VEVENT
DTSTART;VALUE=DATE:20260511
DTEND;VALUE=DATE:20260518
DTSTAMP:20260421T183703
CREATED:20260407T145439Z
LAST-MODIFIED:20260413T131708Z
UID:19359-1778457600-1779062399@fetesdelachartreuse.fr
SUMMARY:Bar à cocktails Chartreuse®
DESCRIPTION:Ouverture prolongée du bar certains jours de la semaine des Fêtes de la Chartreuse : \n\nDu lundi au mercredi : 11h à 19h30 ;\nJeudi : 11h à 17h ;\nVendredi : 11h à 16h et 17h30 à 19h30 ;\nSamedi : 11h à 16h45 ;\nDimanche : 11h à 19h30.
URL:https://fetesdelachartreuse.fr/programme/bar-a-cocktails-chartreuse/
LOCATION:Caves de la Chartreuse\, 10 Bd Edgar Kofler\, Voiron\, 38500\, France
CATEGORIES:Animation cocktail
ATTACH;FMTTYPE=image/jpeg:https://fetesdelachartreuse.fr/wp-content/uploads/2026/04/VOIRON_BAR_Bar_a_cocktails@Pascal-Flamant_OK-scaled.jpg
END:VEVENT
BEGIN:VEVENT
DTSTART;VALUE=DATE:20260511
DTEND;VALUE=DATE:20260525
DTSTAMP:20260421T183703
CREATED:20260408T154408Z
LAST-MODIFIED:20260413T131708Z
UID:19397-1778457600-1779667199@fetesdelachartreuse.fr
SUMMARY:Exposition de photos « Le Patrimoine hydraulique en chartreuse »
DESCRIPTION:Venez découvrir les photographies des participants du concours photos sur le thème « Le patrimoine hydraulique en chartreuse ». \n— \nInformations pratiques \nTarif : Gratuit
URL:https://fetesdelachartreuse.fr/programme/exposition-de-photos-le-patrimoine-hydraulique-en-chartreuse/
LOCATION:Parc de la Mairie de Saint-Laurent-du-Pont\, Parc de la mairie\, Saint-Laurent-du-Pont
CATEGORIES:Exposition
ATTACH;FMTTYPE=image/jpeg:https://fetesdelachartreuse.fr/wp-content/uploads/2026/04/Visuel-FDLC.jpg
END:VEVENT
BEGIN:VEVENT
DTSTART;VALUE=DATE:20260511
DTEND;VALUE=DATE:20260525
DTSTAMP:20260421T183703
CREATED:20260409T083852Z
LAST-MODIFIED:20260413T131708Z
UID:19413-1778457600-1779667199@fetesdelachartreuse.fr
SUMMARY:Exposition « De la pierre à la prière\, regard sur le patrimoine bâti de l’Ordre des Chartreux »
DESCRIPTION:À travers une architecture sobre et fonctionnelle\, les monastères de l’Ordre des Chartreux\, souvent nichés dans des sites isolés\, symbolisent une quête spirituelle de solitude et de contemplation. Venez découvrir la richesse de ce patrimoine bâti unique\, où prière et travail se rejoignent. \n— \nInformations pratiques \nTarif : Gratuit
URL:https://fetesdelachartreuse.fr/programme/exposition-de-la-pierre-a-la-priere-regard-sur-le-patrimoine-bati-de-lordre-des-chartreux/
LOCATION:Jardin de Ville de Voiron\, 32 Rue Mainssieux\, Voiron\, 38500\, France
CATEGORIES:Exposition
ATTACH;FMTTYPE=image/jpeg:https://fetesdelachartreuse.fr/wp-content/uploads/2026/04/8Fi3_Monastere-Grande-Chartreuse-scaled.jpg
END:VEVENT
BEGIN:VEVENT
DTSTART;VALUE=DATE:20260511
DTEND;VALUE=DATE:20260526
DTSTAMP:20260421T183703
CREATED:20260409T084850Z
LAST-MODIFIED:20260413T131708Z
UID:19437-1778457600-1779753599@fetesdelachartreuse.fr
SUMMARY:De béton et de lumière\, un inventaire du patrimoine religieux du XXe siècle en  Isère
DESCRIPTION:À l’heure où l’on s’interroge en France sur le devenir de nombreux lieux de culte\, le Département s’est attaché à recenser et documenter les édifices et les œuvres d’art religieux réalisés au XXe siècle en Isère. Ce travail d’inventaire a été réalisé en partenariat avec l’Association diocésaine de Grenoble\, propriétaire de la majorité des églises construites après 1905. Le corpus rassemble près d’une centaine de sites bâtis au XXe siècle et autant d’églises antérieures décorées\, remeublées ou réaménagées durant cette période. \n— \nInformations pratiques \nTarif : Gratuit \n— \nÀ savoir \nHoraires de la médiathèque : \n\nLundi\, 14h à 18h\nMardi\, 15h à 19h\nMercredi\, 10h à 18h\nVendredi\, 13h à 19h\nSamedi\, 10h à 12h et 14h à 18h
URL:https://fetesdelachartreuse.fr/programme/de-beton-et-de-lumiere-un-inventaire-du-patrimoine-religieux-du-xxe-siecle-en-isere/
LOCATION:Médiathèque Philippe Vial de Voiron\, 5 Boulevard Edgar Kofler\, Voiron\, 38500\, France
CATEGORIES:Exposition
ATTACH;FMTTYPE=image/png:https://fetesdelachartreuse.fr/wp-content/uploads/2026/04/Grenoble_Maison-de-lArchitecture-de-lIsere_DE-BETON-ET-DE-LUMIERE.png
END:VEVENT
BEGIN:VEVENT
DTSTART;TZID=Europe/Paris:20260511T100000
DTEND;TZID=Europe/Paris:20260517T162000
DTSTAMP:20260421T183703
CREATED:20260407T124518Z
LAST-MODIFIED:20260414T091425Z
UID:19348-1778493600-1779034800@fetesdelachartreuse.fr
SUMMARY:Visite du site touristique et culturel des Caves de la Chartreuse
DESCRIPTION:Découvrez l’univers de la liqueur à un tarif attractif le temps des fêtes. Parcourez les espaces muséographiques qui retracent les grandes périodes de l’histoire de 1084 à nos jours\, valorisent le savoir-faire des moines chartreux et font la part belle aux plantes ainsi qu’au massif. \n— \nInformations pratiques \nTarif : 6€ \nInscription / Réservation : https://www.chartreuse.fr/fetes-de-la-chartreuse-2026 \nPublic : À partir de 10 ans
URL:https://fetesdelachartreuse.fr/programme/visite-du-site-touristique-et-culturel-des-caves-de-la-chartreuse-2/
LOCATION:Caves de la Chartreuse\, 10 Bd Edgar Kofler\, Voiron\, 38500\, France
CATEGORIES:Visite, balade
ATTACH;FMTTYPE=image/jpeg:https://fetesdelachartreuse.fr/wp-content/uploads/2025/04/SM05AQT-1-scaled.jpg
END:VEVENT
BEGIN:VEVENT
DTSTART;VALUE=DATE:20260513
DTEND;VALUE=DATE:20260518
DTSTAMP:20260421T183703
CREATED:20260408T151935Z
LAST-MODIFIED:20260413T131708Z
UID:19386-1778630400-1779062399@fetesdelachartreuse.fr
SUMMARY:Exposition Grand Format « La 7e distillerie des Pères Chartreux en photos »
DESCRIPTION:Au fil de photos grands formats retraçant 10 ans de travaux\, immergez-vous au cœur du site de production des liqueurs Chartreuse® qui abrite la 7e distillerie des Pères Chartreux : un retour aux sources pour l’Ordre pensé pour 200 ans\, alliant richesse environnementale et patrimoine d’exception. \n— \nInformations pratiques \nTarif : Gratuit
URL:https://fetesdelachartreuse.fr/programme/exposition-grand-format-la-7e-distillerie-des-peres-chartreux-en-photos/
LOCATION:Marie d’Entre-Deux-Guiers\, 1 place du 11 novembre 1918\, Entre-Deux-Guiers\, 38380\, France
CATEGORIES:Exposition
ATTACH;FMTTYPE=image/jpeg:https://fetesdelachartreuse.fr/wp-content/uploads/2026/04/EXPOSITION-PHOTO-AIGUENOIRE-E2G_Expo_PGA©Pascal_Flamant-scaled.jpg
END:VEVENT
BEGIN:VEVENT
DTSTART;VALUE=DATE:20260513
DTEND;VALUE=DATE:20260518
DTSTAMP:20260421T183703
CREATED:20260408T165310Z
LAST-MODIFIED:20260413T131707Z
UID:19406-1778630400-1779062399@fetesdelachartreuse.fr
SUMMARY:Création de l’œuvre sur bois « L’écho du silence »
DESCRIPTION:À la suite du concours de sculpture lancé par l’ONF sur le thème « L’écho du silence »\, l’œuvre monumentale en triptyque de l’artiste Emy Wood a été retenue. Venez prendre part au projet et participer à la création de cette œuvre. De 10h à 12h\, l’artiste fera une démonstration de sculpture à la tronçonneuse. De 14h à 17h\, les visiteurs seront invités à écorcer le bas des arbres à l’aide de planes et de gouges. \n— \nInformations pratiques \nTarif : Gratuit \nHoraires : 13 mai\, 14h à 17h / 14\, 15 et 17 mai\, 10h à 12h30 et 14h à 17h
URL:https://fetesdelachartreuse.fr/programme/creation-de-loeuvre-sur-bois-lecho-du-silence/
LOCATION:Musée de la Grande Chartreuse\, 670 route du désert\, Saint-Pierre-de-Chartreuse\, 38380\, France
CATEGORIES:Exposition
ATTACH;FMTTYPE=image/png:https://fetesdelachartreuse.fr/wp-content/uploads/2026/04/Emy-Wood.png
END:VEVENT
BEGIN:VEVENT
DTSTART;TZID=Europe/Paris:20260513T100000
DTEND;TZID=Europe/Paris:20260517T174000
DTSTAMP:20260421T183703
CREATED:20260408T090741Z
LAST-MODIFIED:20260414T091430Z
UID:19362-1778666400-1779039600@fetesdelachartreuse.fr
SUMMARY:Jeu de piste « Les archivistes de la Chartreuse »
DESCRIPTION:Devenez archiviste du monastère le temps d’un jeu d’enquête : retrouvez des artefacts\, résolvez des énigmes sur les distilleries\, l’architecture et le savoir‑faire botanique\, puis collectez les étoiles cachées pour réussir votre mission. \n— \nInformations pratiques \nTarif : 5€* \nInscription / Réservation : https://www.chartreuse.fr/fetes-de-la-chartreuse-2026 \nPublic : À partir de 7 ans \n— \nÀ savoir \nDéparts à 10h\, 11h\, 12h\, 14h\, 15h\, 16h\, 17h \n*Les fonds recueillis seront reversés à l’Association pour la Valorisation du Patrimoine Cartusien chargée de la réhabilitation du patrimoine bâti de l’Ordre des chartreux
URL:https://fetesdelachartreuse.fr/programme/jeu-de-piste-les-archivistes-de-la-chartreuse/
LOCATION:Caves de la Chartreuse\, 10 Bd Edgar Kofler\, Voiron\, 38500\, France
CATEGORIES:Jeu, activité jeune
ATTACH;FMTTYPE=image/jpeg:https://fetesdelachartreuse.fr/wp-content/uploads/2026/04/VOIRON_Jeu_de_piste_Les_Archivistes©Chartreuse_OK.jpg
END:VEVENT
BEGIN:VEVENT
DTSTART;TZID=Europe/Paris:20260513T130000
DTEND;TZID=Europe/Paris:20260530T180000
DTSTAMP:20260421T183703
CREATED:20260409T084523Z
LAST-MODIFIED:20260413T131707Z
UID:19434-1778677200-1780164000@fetesdelachartreuse.fr
SUMMARY:Exposition photos « Pierres du Silence » de Marie Isabelle Ginevra
DESCRIPTION:L’artiste vous invite à vous plonger dans le bâti cartusien\, une architecture unique façonnée par l’histoire et les sommets de Chartreuse. Entre force de la pierre et la sérénité des lieux\, venez découvrir l’âme de notre patrimoine. \n— \nInformations pratiques \nTarif : Gratuit \n— \nÀ savoir \nFermé les dimanches \n\n13 mai\, 14h à 17h : Marathon photo\n14 mai\, 18h30 : Vernissage
URL:https://fetesdelachartreuse.fr/programme/exposition-photos-pierres-du-silence-de-marie-isabelle-ginevra/
LOCATION:Reflex studio\, 32 rue Dode\, Voiron\, 38500\, France
CATEGORIES:Exposition
ATTACH;FMTTYPE=image/jpeg:https://fetesdelachartreuse.fr/wp-content/uploads/2026/04/Visuel-FDLC.jpg
END:VEVENT
BEGIN:VEVENT
DTSTART;TZID=Europe/Paris:20260513T140000
DTEND;TZID=Europe/Paris:20260517T180000
DTSTAMP:20260421T183703
CREATED:20260408T163424Z
LAST-MODIFIED:20260420T143915Z
UID:19400-1778680800-1779040800@fetesdelachartreuse.fr
SUMMARY:Musée de la Grande Chartreuse
DESCRIPTION:Découvrez la vie exceptionnelle des Chartreux : leur histoire\, leur architecture et leur quotidien\, dans le musée installé dans une ancienne dépendance du monastère. \n— \nInformations pratiques \nTarif : 10€\, 5€ tarif réduit \nInscription / Réservation : https://museegrandechartreuse.addock.co/ \n— \nÀ savoir \nVisites guidées organisées du 13 au 17 mai (voir programme)
URL:https://fetesdelachartreuse.fr/programme/musee-de-la-grande-chartreuse/
LOCATION:Musée de la Grande Chartreuse\, 670 route du désert\, Saint-Pierre-de-Chartreuse\, 38380\, France
CATEGORIES:Exposition,Visite, balade
ATTACH;FMTTYPE=image/jpeg:https://fetesdelachartreuse.fr/wp-content/uploads/2026/04/Musee-scaled.jpg
END:VEVENT
BEGIN:VEVENT
DTSTART;TZID=Europe/Paris:20260513T140000
DTEND;TZID=Europe/Paris:20260525T180000
DTSTAMP:20260421T183703
CREATED:20260408T164253Z
LAST-MODIFIED:20260413T131707Z
UID:19404-1778680800-1779732000@fetesdelachartreuse.fr
SUMMARY:Exposition de photos « Le patrimoine bâti cartusien »
DESCRIPTION:Venez découvrir les photographies des participants du concours photo sur le thème « Le patrimoine bâti cartusien ». Cette mise en lumière prendra place en parallèle des cartes de chartreuse représentant différents monastères de l’Ordre à travers l’Europe. \n— \nInformations pratiques \nTarif : Compris dans le billet d’entrée
URL:https://fetesdelachartreuse.fr/programme/exposition-de-photos-le-patrimoine-bati-cartusien/
LOCATION:Musée de la Grande Chartreuse\, 670 route du désert\, Saint-Pierre-de-Chartreuse\, 38380\, France
CATEGORIES:Exposition
ATTACH;FMTTYPE=image/jpeg:https://fetesdelachartreuse.fr/wp-content/uploads/2026/04/Visuel-FDLC.jpg
END:VEVENT
BEGIN:VEVENT
DTSTART;VALUE=DATE:20260514
DTEND;VALUE=DATE:20260518
DTSTAMP:20260421T183703
CREATED:20260408T153712Z
LAST-MODIFIED:20260413T131706Z
UID:19394-1778716800-1779062399@fetesdelachartreuse.fr
SUMMARY:Mémoires de Laurentinois
DESCRIPTION:Exposition des témoignages des Laurentinois racontant la vie d’antan des quartiers de Saint-Laurent-du-Pont. \n— \nInformations pratiques \nTarif : Gratuit
URL:https://fetesdelachartreuse.fr/programme/memoires-de-laurentinois/
LOCATION:Parc de la Mairie de Saint-Laurent-du-Pont\, Parc de la mairie\, Saint-Laurent-du-Pont
CATEGORIES:Exposition
ATTACH;FMTTYPE=image/jpeg:https://fetesdelachartreuse.fr/wp-content/uploads/2026/04/Visuel-FDLC.jpg
END:VEVENT
BEGIN:VEVENT
DTSTART;TZID=Europe/Paris:20260514T103000
DTEND;TZID=Europe/Paris:20260514T123000
DTSTAMP:20260421T183703
CREATED:20260409T124357Z
LAST-MODIFIED:20260414T093216Z
UID:19524-1778754600-1778761800@fetesdelachartreuse.fr
SUMMARY:Atelier confection macérat huileux et ses bienfaits
DESCRIPTION:Partez à la rencontre des plantes sauvages à travers la fabrication d’un macérât huileux : une préparation simple et essentielle\, idéale pour constituer une pharmacie familiale naturelle. \n— \nInformations pratiques \nTarif : 10€* \nInscription / Réservation : https://www.chartreuse.fr/fetes-de-la-chartreuse-2026 \n— \nÀ savoir \nHoraires : 10h30 et 14h30 (2h) \n*Les fonds recueillis seront reversés à l’Association pour la Valorisation du Patrimoine Cartusien chargée de la réhabilitation du patrimoine bâti de l’Ordre des chartreux
URL:https://fetesdelachartreuse.fr/programme/atelier-confection-macerat-huileux-et-ses-bienfaits/
LOCATION:Caves de la Chartreuse\, 10 Bd Edgar Kofler\, Voiron\, 38500\, France
CATEGORIES:Atelier
ATTACH;FMTTYPE=image/jpeg:https://fetesdelachartreuse.fr/wp-content/uploads/2026/04/VOIRON_Atelier_Macerat©Pascal_Flamant_OK-scaled.jpg
END:VEVENT
BEGIN:VEVENT
DTSTART;TZID=Europe/Paris:20260514T140000
DTEND;TZID=Europe/Paris:20260517T180000
DTSTAMP:20260421T183703
CREATED:20260408T170220Z
LAST-MODIFIED:20260413T131706Z
UID:19416-1778767200-1779040800@fetesdelachartreuse.fr
SUMMARY:Exposition temporaire « Arcabas\, Art Sacré Monumental »
DESCRIPTION:Arcabas\, peintre de renom\, a réalisé près de 6 000 œuvres\, dont de grandes fresques pour l’église Saint-Hugues-de-Chartreuse\, la basilique Notre-Dame de la Salette\, l’église Notre-Dame des Neiges à l’Alpe d’Huez et la basilique du Sacré-Cœur de Grenoble. Cette exposition célèbre son centenaire et met en lumière cette partie majeure de sa création. \n— \nInformations pratiques \nTarif : Compris dans le billet d’entrée
URL:https://fetesdelachartreuse.fr/programme/exposition-temporaire-arcabas-art-sacre-monumental/
LOCATION:Musée de la Grande Chartreuse\, 670 route du désert\, Saint-Pierre-de-Chartreuse\, 38380\, France
CATEGORIES:Exposition
ATTACH;FMTTYPE=image/jpeg:https://fetesdelachartreuse.fr/wp-content/uploads/2026/04/Arcabas-scaled.jpg
END:VEVENT
BEGIN:VEVENT
DTSTART;TZID=Europe/Paris:20260514T143000
DTEND;TZID=Europe/Paris:20260514T160000
DTSTAMP:20260421T183703
CREATED:20260409T125555Z
LAST-MODIFIED:20260420T143958Z
UID:19568-1778769000-1778774400@fetesdelachartreuse.fr
SUMMARY:Visite guidée du musée de la Grande Chartreuse
DESCRIPTION:Avec nos guides\, venez découvrir l’histoire de l’Ordre des chartreux et le mode de vie des moines. \n— \nInformations pratiques \nTarif : 12€\, 5€ tarif réduit \nInscription / Réservation : https://museegrandechartreuse.addock.co/ \n 
URL:https://fetesdelachartreuse.fr/programme/visite-guidee-du-musee-de-la-grande-chartreuse-2/
LOCATION:Musée de la Grande Chartreuse\, 670 route du désert\, Saint-Pierre-de-Chartreuse\, 38380\, France
CATEGORIES:Visite, balade
ATTACH;FMTTYPE=image/jpeg:https://fetesdelachartreuse.fr/wp-content/uploads/2026/04/Visite-guidee-scaled.jpg
END:VEVENT
BEGIN:VEVENT
DTSTART;TZID=Europe/Paris:20260514T143000
DTEND;TZID=Europe/Paris:20260514T163000
DTSTAMP:20260421T183703
CREATED:20260414T093309Z
LAST-MODIFIED:20260414T093309Z
UID:19925-1778769000-1778776200@fetesdelachartreuse.fr
SUMMARY:Atelier confection macérat huileux et ses bienfaits
DESCRIPTION:Partez à la rencontre des plantes sauvages à travers la fabrication d’un macérât huileux : une préparation simple et essentielle\, idéale pour constituer une pharmacie familiale naturelle. \n— \nInformations pratiques \nTarif : 10€* \nInscription / Réservation : https://www.chartreuse.fr/fetes-de-la-chartreuse-2026 \n— \nÀ savoir \nHoraires : 10h30 et 14h30 (2h) \n*Les fonds recueillis seront reversés à l’Association pour la Valorisation du Patrimoine Cartusien chargée de la réhabilitation du patrimoine bâti de l’Ordre des chartreux
URL:https://fetesdelachartreuse.fr/programme/atelier-confection-macerat-huileux-et-ses-bienfaits-2/
LOCATION:Caves de la Chartreuse\, 10 Bd Edgar Kofler\, Voiron\, 38500\, France
CATEGORIES:Atelier
ATTACH;FMTTYPE=image/jpeg:https://fetesdelachartreuse.fr/wp-content/uploads/2026/04/VOIRON_Atelier_Macerat©Pascal_Flamant_OK-scaled.jpg
END:VEVENT
BEGIN:VEVENT
DTSTART;TZID=Europe/Paris:20260514T150000
DTEND;TZID=Europe/Paris:20260514T160000
DTSTAMP:20260421T183703
CREATED:20260409T125004Z
LAST-MODIFIED:20260413T131706Z
UID:19525-1778770800-1778774400@fetesdelachartreuse.fr
SUMMARY:Atelier Calligraphie
DESCRIPTION:Venez découvrir le travail de la calligraphie et réalisez votre nom à la plume que vous pourrez offrir ou garder en souvenir. \n— \nInformations pratiques \nTarif : 10€\, réduit 5€
URL:https://fetesdelachartreuse.fr/programme/atelier-calligraphie/
LOCATION:Musée de la Grande Chartreuse\, 670 route du désert\, Saint-Pierre-de-Chartreuse\, 38380\, France
CATEGORIES:Atelier
ATTACH;FMTTYPE=image/jpeg:https://fetesdelachartreuse.fr/wp-content/uploads/2026/04/Calligraphie.jpg
END:VEVENT
BEGIN:VEVENT
DTSTART;TZID=Europe/Paris:20260514T163000
DTEND;TZID=Europe/Paris:20260517T173000
DTSTAMP:20260421T183703
CREATED:20260408T165933Z
LAST-MODIFIED:20260413T131706Z
UID:19412-1778776200-1779039000@fetesdelachartreuse.fr
SUMMARY:Visite guidée « Les chartreux\, de bergers à herboristes\, plus de 900 ans d’histoire »
DESCRIPTION:Connaissez-vous les moyens de subsistance des chartreux qui\, en plus de 900 ans\, leur ont permis de vivre\, d’édifier\, de fonder ? L’herboristerie bien sûr\, mais pas seulement ! La visite est suivie d’une dégustation d’élixir. \n— \nInformations pratiques \nTarif : 12€\, 5€ tarif réduit\, sur inscription
URL:https://fetesdelachartreuse.fr/programme/visite-guidee-les-chartreux-de-bergers-a-herboristes-plus-de-900-ans-dhistoire/
LOCATION:Musée de la Grande Chartreuse\, 670 route du désert\, Saint-Pierre-de-Chartreuse\, 38380\, France
CATEGORIES:Visite, balade
ATTACH;FMTTYPE=image/jpeg:https://fetesdelachartreuse.fr/wp-content/uploads/2026/04/Visite-900-ans-histoire-scaled.jpg
END:VEVENT
BEGIN:VEVENT
DTSTART;TZID=Europe/Paris:20260514T180000
DTEND;TZID=Europe/Paris:20260514T190000
DTSTAMP:20260421T183703
CREATED:20260409T123700Z
LAST-MODIFIED:20260414T091436Z
UID:19523-1778781600-1778785200@fetesdelachartreuse.fr
SUMMARY:Conférence « Les chartreux\, retour aux origines : de leur passé d’herboriste au Moyen Âge à une approche contemporaine du végétal »
DESCRIPTION:C’est à Paris Vauvert et dès 1257 que les chartreux développent des compétences d’herboristes et d’apothicaires\, donnant naissance à l’Élixir Végétal de la Grande Chartreuse en 1764. Aujourd’hui\, cette tradition et ce partage autour des plantes aromatiques et médicinales se perpétuent toujours à travers des produits de soin conçus par les moines. \n— \nInformations pratiques \nTarif : 5€* \nInscription / Réservation : https://www.chartreuse.fr/fetes-de-la-chartreuse-2026 \n— \nÀ savoir \n*Les fonds recueillis seront reversés à l’Association pour la Valorisation du Patrimoine Cartusien chargée de la réhabilitation du patrimoine bâti de l’Ordre des chartreux
URL:https://fetesdelachartreuse.fr/programme/conference-les-chartreux-retour-aux-origines-de-leur-passe-dherboriste-au-moyen-age-a-une-approche-contemporaine-du-vegetal/
LOCATION:Caves de la Chartreuse\, 10 Bd Edgar Kofler\, Voiron\, 38500\, France
CATEGORIES:Conférence
ATTACH;FMTTYPE=image/jpeg:https://fetesdelachartreuse.fr/wp-content/uploads/2026/04/DSC_9300RET-scaled.jpg
END:VEVENT
BEGIN:VEVENT
DTSTART;TZID=Europe/Paris:20260514T183000
DTEND;TZID=Europe/Paris:20260514T193000
DTSTAMP:20260421T183703
CREATED:20260409T125257Z
LAST-MODIFIED:20260413T131705Z
UID:19526-1778783400-1778787000@fetesdelachartreuse.fr
SUMMARY:Vernissage de l’exposition « Pierres du Silence »
DESCRIPTION:Dans le cadre de l’expo « Pierres du Silence ». \n— \nInformations pratiques \nTarif : Gratuit \nInscription / Réservation : https://www.reflexstudio.fr
URL:https://fetesdelachartreuse.fr/programme/vernissage-de-lexposition-pierres-du-silence/
LOCATION:Reflex studio\, 32 rue Dode\, Voiron\, 38500\, France
CATEGORIES:Exposition
ATTACH;FMTTYPE=image/jpeg:https://fetesdelachartreuse.fr/wp-content/uploads/2026/04/Visuel-FDLC.jpg
END:VEVENT
END:VCALENDAR