BEGIN:VCALENDAR
VERSION:2.0
PRODID:-//Fêtes de la Chartreuse - ECPv6.15.18//NONSGML v1.0//EN
CALSCALE:GREGORIAN
METHOD:PUBLISH
X-WR-CALNAME:Fêtes de la Chartreuse
X-ORIGINAL-URL:https://fetesdelachartreuse.fr
X-WR-CALDESC:Évènements pour Fêtes de la Chartreuse
REFRESH-INTERVAL;VALUE=DURATION:PT1H
X-Robots-Tag:noindex
X-PUBLISHED-TTL:PT1H
BEGIN:VTIMEZONE
TZID:Europe/Paris
BEGIN:DAYLIGHT
TZOFFSETFROM:+0100
TZOFFSETTO:+0200
TZNAME:CEST
DTSTART:20250330T010000
END:DAYLIGHT
BEGIN:STANDARD
TZOFFSETFROM:+0200
TZOFFSETTO:+0100
TZNAME:CET
DTSTART:20251026T010000
END:STANDARD
BEGIN:DAYLIGHT
TZOFFSETFROM:+0100
TZOFFSETTO:+0200
TZNAME:CEST
DTSTART:20260329T010000
END:DAYLIGHT
BEGIN:STANDARD
TZOFFSETFROM:+0200
TZOFFSETTO:+0100
TZNAME:CET
DTSTART:20261025T010000
END:STANDARD
BEGIN:DAYLIGHT
TZOFFSETFROM:+0100
TZOFFSETTO:+0200
TZNAME:CEST
DTSTART:20270328T010000
END:DAYLIGHT
BEGIN:STANDARD
TZOFFSETFROM:+0200
TZOFFSETTO:+0100
TZNAME:CET
DTSTART:20271031T010000
END:STANDARD
END:VTIMEZONE
BEGIN:VEVENT
DTSTART;TZID=Europe/Paris:20260516T100000
DTEND;TZID=Europe/Paris:20260517T120000
DTSTAMP:20260421T172030
CREATED:20260410T093052Z
LAST-MODIFIED:20260414T091418Z
UID:19694-1778925600-1779019200@fetesdelachartreuse.fr
SUMMARY:Atelier confection de tisanes à base de plantes aromatiques et médicinales
DESCRIPTION:Initiez-vous au mélange des plantes en participant à cet atelier de confection de tisanes. Explorez leurs vertus\, leur nature\, leurs propriétés et leurs usages. \n— \nInformations pratiques \nTarif : 10€ \nInscription / Réservation : https://www.chartreuse.fr/fetes-de-la-chartreuse-2026 \nPublic : À partir de 15 ans \n— \nÀ savoir \nHoraires : 16 et 17 mai\, 10h et 14h
URL:https://fetesdelachartreuse.fr/programme/atelier-confection-de-tisanes-a-base-de-plantes-aromatiques-et-medicinales-2/
LOCATION:Caves de la Chartreuse\, 10 Bd Edgar Kofler\, Voiron\, 38500\, France
CATEGORIES:Atelier
ATTACH;FMTTYPE=image/jpeg:https://fetesdelachartreuse.fr/wp-content/uploads/2026/04/VOIRON_Atelier_Confection_tisanes©Pascal_Flamant_OK-scaled.jpg
END:VEVENT
END:VCALENDAR