BEGIN:VCALENDAR
VERSION:2.0
PRODID:-//Fêtes de la Chartreuse - ECPv6.15.18//NONSGML v1.0//EN
CALSCALE:GREGORIAN
METHOD:PUBLISH
X-WR-CALNAME:Fêtes de la Chartreuse
X-ORIGINAL-URL:https://fetesdelachartreuse.fr
X-WR-CALDESC:Évènements pour Fêtes de la Chartreuse
REFRESH-INTERVAL;VALUE=DURATION:PT1H
X-Robots-Tag:noindex
X-PUBLISHED-TTL:PT1H
BEGIN:VTIMEZONE
TZID:Europe/Paris
BEGIN:DAYLIGHT
TZOFFSETFROM:+0100
TZOFFSETTO:+0200
TZNAME:CEST
DTSTART:20250330T010000
END:DAYLIGHT
BEGIN:STANDARD
TZOFFSETFROM:+0200
TZOFFSETTO:+0100
TZNAME:CET
DTSTART:20251026T010000
END:STANDARD
BEGIN:DAYLIGHT
TZOFFSETFROM:+0100
TZOFFSETTO:+0200
TZNAME:CEST
DTSTART:20260329T010000
END:DAYLIGHT
BEGIN:STANDARD
TZOFFSETFROM:+0200
TZOFFSETTO:+0100
TZNAME:CET
DTSTART:20261025T010000
END:STANDARD
BEGIN:DAYLIGHT
TZOFFSETFROM:+0100
TZOFFSETTO:+0200
TZNAME:CEST
DTSTART:20270328T010000
END:DAYLIGHT
BEGIN:STANDARD
TZOFFSETFROM:+0200
TZOFFSETTO:+0100
TZNAME:CET
DTSTART:20271031T010000
END:STANDARD
END:VTIMEZONE
BEGIN:VEVENT
DTSTART;TZID=Europe/Paris:20260516T120000
DTEND;TZID=Europe/Paris:20260517T131500
DTSTAMP:20260421T164118
CREATED:20260410T102515Z
LAST-MODIFIED:20260414T091547Z
UID:19729-1778932800-1779023700@fetesdelachartreuse.fr
SUMMARY:Atelier Cyanotypes
DESCRIPTION:Créez et développez des cyanotypes grâce à un ancien procédé de photographie\, à travers une approche poétique de la nature. Un herbier sera à votre disposition. N’hésitez pas à apporter des végétaux séchés par vos soins. \n— \nInformations pratiques \nTarif : 10€* \nInscription / Réservation : https://www.chartreuse.fr/fetes-de-la-chartreuse-2026 \nPublic : À partir de 8 ans \n— \nÀ savoir \n*Les fonds recueillis seront reversés à l’Association pour la Valorisation du Patrimoine Cartusien chargée de la réhabilitation du patrimoine bâti de l’Ordre des chartreux
URL:https://fetesdelachartreuse.fr/programme/atelier-cyanotypes-2/
LOCATION:Parking des Caves de la Chartreuse\, 10 Bd Edgar Kofler\, Voiron\, 38500\, France
CATEGORIES:Atelier
ATTACH;FMTTYPE=image/jpeg:https://fetesdelachartreuse.fr/wp-content/uploads/2026/04/Visuel-FDLC.jpg
END:VEVENT
END:VCALENDAR