BEGIN:VCALENDAR
VERSION:2.0
PRODID:-//Fêtes de la Chartreuse - ECPv6.15.18//NONSGML v1.0//EN
CALSCALE:GREGORIAN
METHOD:PUBLISH
X-WR-CALNAME:Fêtes de la Chartreuse
X-ORIGINAL-URL:https://fetesdelachartreuse.fr
X-WR-CALDESC:Évènements pour Fêtes de la Chartreuse
REFRESH-INTERVAL;VALUE=DURATION:PT1H
X-Robots-Tag:noindex
X-PUBLISHED-TTL:PT1H
BEGIN:VTIMEZONE
TZID:Europe/Paris
BEGIN:DAYLIGHT
TZOFFSETFROM:+0100
TZOFFSETTO:+0200
TZNAME:CEST
DTSTART:20250330T010000
END:DAYLIGHT
BEGIN:STANDARD
TZOFFSETFROM:+0200
TZOFFSETTO:+0100
TZNAME:CET
DTSTART:20251026T010000
END:STANDARD
BEGIN:DAYLIGHT
TZOFFSETFROM:+0100
TZOFFSETTO:+0200
TZNAME:CEST
DTSTART:20260329T010000
END:DAYLIGHT
BEGIN:STANDARD
TZOFFSETFROM:+0200
TZOFFSETTO:+0100
TZNAME:CET
DTSTART:20261025T010000
END:STANDARD
BEGIN:DAYLIGHT
TZOFFSETFROM:+0100
TZOFFSETTO:+0200
TZNAME:CEST
DTSTART:20270328T010000
END:DAYLIGHT
BEGIN:STANDARD
TZOFFSETFROM:+0200
TZOFFSETTO:+0100
TZNAME:CET
DTSTART:20271031T010000
END:STANDARD
END:VTIMEZONE
BEGIN:VEVENT
DTSTART;TZID=Europe/Paris:20260515T103000
DTEND;TZID=Europe/Paris:20260515T120000
DTSTAMP:20260421T152143
CREATED:20260409T140139Z
LAST-MODIFIED:20260420T144007Z
UID:19601-1778841000-1778846400@fetesdelachartreuse.fr
SUMMARY:Atelier enluminures
DESCRIPTION:Venez découvrir le travail des moines copistes du Moyen Âge et réalisez une lettrine à la gouache que vous garderez en souvenir. \n— \nInformations pratiques \nTarif : 10€\, réduit 5€ \nInscription / Réservation : https://museegrandechartreuse.addock.co/ \nPublic : À partir de 7 ans
URL:https://fetesdelachartreuse.fr/programme/atelier-enluminures-2/
LOCATION:Musée de la Grande Chartreuse\, 670 route du désert\, Saint-Pierre-de-Chartreuse\, 38380\, France
CATEGORIES:Atelier
ATTACH;FMTTYPE=image/jpeg:https://fetesdelachartreuse.fr/wp-content/uploads/2026/04/Enluminures-scaled.jpg
END:VEVENT
END:VCALENDAR