BEGIN:VCALENDAR
VERSION:2.0
PRODID:-//Fêtes de la Chartreuse - ECPv6.15.18//NONSGML v1.0//EN
CALSCALE:GREGORIAN
METHOD:PUBLISH
X-WR-CALNAME:Fêtes de la Chartreuse
X-ORIGINAL-URL:https://fetesdelachartreuse.fr
X-WR-CALDESC:Évènements pour Fêtes de la Chartreuse
REFRESH-INTERVAL;VALUE=DURATION:PT1H
X-Robots-Tag:noindex
X-PUBLISHED-TTL:PT1H
BEGIN:VTIMEZONE
TZID:Europe/Paris
BEGIN:DAYLIGHT
TZOFFSETFROM:+0100
TZOFFSETTO:+0200
TZNAME:CEST
DTSTART:20250330T010000
END:DAYLIGHT
BEGIN:STANDARD
TZOFFSETFROM:+0200
TZOFFSETTO:+0100
TZNAME:CET
DTSTART:20251026T010000
END:STANDARD
BEGIN:DAYLIGHT
TZOFFSETFROM:+0100
TZOFFSETTO:+0200
TZNAME:CEST
DTSTART:20260329T010000
END:DAYLIGHT
BEGIN:STANDARD
TZOFFSETFROM:+0200
TZOFFSETTO:+0100
TZNAME:CET
DTSTART:20261025T010000
END:STANDARD
BEGIN:DAYLIGHT
TZOFFSETFROM:+0100
TZOFFSETTO:+0200
TZNAME:CEST
DTSTART:20270328T010000
END:DAYLIGHT
BEGIN:STANDARD
TZOFFSETFROM:+0200
TZOFFSETTO:+0100
TZNAME:CET
DTSTART:20271031T010000
END:STANDARD
END:VTIMEZONE
BEGIN:VEVENT
DTSTART;TZID=Europe/Paris:20260513T083000
DTEND;TZID=Europe/Paris:20260513T173000
DTSTAMP:20260421T152254
CREATED:20260409T105258Z
LAST-MODIFIED:20260413T131707Z
UID:19488-1778661000-1778693400@fetesdelachartreuse.fr
SUMMARY:Balade guidée : Les plantes en Chartreuse
DESCRIPTION:Sortie accompagnée par un guide en montagne. Vous découvrirez les plantes médicinales et comestibles en Chartreuse. \n— \nInformations pratiques \nTarif : Quotient familial \nInscription / Réservation : renseignements au 04 76 67 96 10 et inscriptions uniquement sur place au Centre social Charles Béraudier \nPublic : À partir de 10 ans \n— \nÀ savoir \nDépart en car du Centre social Charles Béraudier à 8h30 \nPrévoir pique-nique à partager et chaussures de marche
URL:https://fetesdelachartreuse.fr/programme/balade-guidee-les-plantes-en-chartreuse/
LOCATION:Centre social Charles Béraudier\, 6 Av. Jules Ravat\, Voiron\, 38500
CATEGORIES:Visite, balade
ATTACH;FMTTYPE=image/jpeg:https://fetesdelachartreuse.fr/wp-content/uploads/2026/04/illustration-balade-guidee-scaled.jpg
END:VEVENT
END:VCALENDAR