BEGIN:VCALENDAR
VERSION:2.0
PRODID:-//Fêtes de la Chartreuse - ECPv6.15.18//NONSGML v1.0//EN
CALSCALE:GREGORIAN
METHOD:PUBLISH
X-WR-CALNAME:Fêtes de la Chartreuse
X-ORIGINAL-URL:https://fetesdelachartreuse.fr
X-WR-CALDESC:Évènements pour Fêtes de la Chartreuse
REFRESH-INTERVAL;VALUE=DURATION:PT1H
X-Robots-Tag:noindex
X-PUBLISHED-TTL:PT1H
BEGIN:VTIMEZONE
TZID:Europe/Paris
BEGIN:DAYLIGHT
TZOFFSETFROM:+0100
TZOFFSETTO:+0200
TZNAME:CEST
DTSTART:20250330T010000
END:DAYLIGHT
BEGIN:STANDARD
TZOFFSETFROM:+0200
TZOFFSETTO:+0100
TZNAME:CET
DTSTART:20251026T010000
END:STANDARD
BEGIN:DAYLIGHT
TZOFFSETFROM:+0100
TZOFFSETTO:+0200
TZNAME:CEST
DTSTART:20260329T010000
END:DAYLIGHT
BEGIN:STANDARD
TZOFFSETFROM:+0200
TZOFFSETTO:+0100
TZNAME:CET
DTSTART:20261025T010000
END:STANDARD
BEGIN:DAYLIGHT
TZOFFSETFROM:+0100
TZOFFSETTO:+0200
TZNAME:CEST
DTSTART:20270328T010000
END:DAYLIGHT
BEGIN:STANDARD
TZOFFSETFROM:+0200
TZOFFSETTO:+0100
TZNAME:CET
DTSTART:20271031T010000
END:STANDARD
END:VTIMEZONE
BEGIN:VEVENT
DTSTART;TZID=Europe/Paris:20260515T170000
DTEND;TZID=Europe/Paris:20260515T172000
DTSTAMP:20260421T152431
CREATED:20260409T131815Z
LAST-MODIFIED:20260413T131704Z
UID:19578-1778864400-1778865600@fetesdelachartreuse.fr
SUMMARY:Bienvenue dans le monde d’Asâya !
DESCRIPTION:Sur les hauteurs de la Chartreuse\, des génies bâtisseurs ont su créer des lieux sacrés où une grande sérénité peut circuler. C’est dans cette ambiance que je suis allée chercher mes contes pour vous les partager. \nUne invitation à la contemplation pour se laisser toucher par le soleil qui nous emplie le cœur de chaleur. \n— \nInformations pratiques \nTarif : Gratuit
URL:https://fetesdelachartreuse.fr/programme/bienvenue-dans-le-monde-dasaya/
LOCATION:Halle d’Entre-Deux-Guiers\, Place de la Halle\, Entre-Deux-Guiers\, 38380\, France
CATEGORIES:Spectacle
ATTACH;FMTTYPE=image/jpeg:https://fetesdelachartreuse.fr/wp-content/uploads/2026/04/E2G-Bienvenue-dans-le-monde-dAsaya.jpg
END:VEVENT
END:VCALENDAR