BEGIN:VCALENDAR
VERSION:2.0
PRODID:-//Fêtes de la Chartreuse - ECPv6.15.18//NONSGML v1.0//EN
CALSCALE:GREGORIAN
METHOD:PUBLISH
X-ORIGINAL-URL:https://fetesdelachartreuse.fr
X-WR-CALDESC:Évènements pour Fêtes de la Chartreuse
REFRESH-INTERVAL;VALUE=DURATION:PT1H
X-Robots-Tag:noindex
X-PUBLISHED-TTL:PT1H
BEGIN:VTIMEZONE
TZID:Europe/Paris
BEGIN:DAYLIGHT
TZOFFSETFROM:+0100
TZOFFSETTO:+0200
TZNAME:CEST
DTSTART:20250330T010000
END:DAYLIGHT
BEGIN:STANDARD
TZOFFSETFROM:+0200
TZOFFSETTO:+0100
TZNAME:CET
DTSTART:20251026T010000
END:STANDARD
BEGIN:DAYLIGHT
TZOFFSETFROM:+0100
TZOFFSETTO:+0200
TZNAME:CEST
DTSTART:20260329T010000
END:DAYLIGHT
BEGIN:STANDARD
TZOFFSETFROM:+0200
TZOFFSETTO:+0100
TZNAME:CET
DTSTART:20261025T010000
END:STANDARD
BEGIN:DAYLIGHT
TZOFFSETFROM:+0100
TZOFFSETTO:+0200
TZNAME:CEST
DTSTART:20270328T010000
END:DAYLIGHT
BEGIN:STANDARD
TZOFFSETFROM:+0200
TZOFFSETTO:+0100
TZNAME:CET
DTSTART:20271031T010000
END:STANDARD
END:VTIMEZONE
BEGIN:VEVENT
DTSTART;TZID=Europe/Paris:20260513T150000
DTEND;TZID=Europe/Paris:20260513T170000
DTSTAMP:20260421T195833
CREATED:20260409T102139Z
LAST-MODIFIED:20260413T131706Z
UID:19474-1778684400-1778691600@fetesdelachartreuse.fr
SUMMARY:Finale du Défi Cocktails Chartreuse®
DESCRIPTION:Épreuves pour départager les candidats : confection de cocktails\, quizz et dosage à l’aveugle. Remise des prix sur place. \n— \nInformations pratiques \nTarif : Gratuit \nPublic : Destiné à un public majeur
URL:https://fetesdelachartreuse.fr/programme/finale-defi-cocktails-chartreuse/
LOCATION:Maison des Associations de Saint-Laurent-du-Pont\, Place de la Mairie\, Saint-Laurent-du-Pont
CATEGORIES:Animation cocktail,Concours, défi, compétition
ATTACH;FMTTYPE=image/jpeg:https://fetesdelachartreuse.fr/wp-content/uploads/2026/04/Visuel-FDLC.jpg
END:VEVENT
BEGIN:VEVENT
DTSTART;TZID=Europe/Paris:20260516T100000
DTEND;TZID=Europe/Paris:20260517T170000
DTSTAMP:20260421T195833
CREATED:20260410T102203Z
LAST-MODIFIED:20260413T131704Z
UID:19728-1778925600-1779037200@fetesdelachartreuse.fr
SUMMARY:Exposition et jeu concours « Les haberts\, témoins de l’activité pastorale des chartreux »
DESCRIPTION:Découvrez les haberts\, bâtis d’alpage des Chartreux\, dont l’un des derniers : le habert de Billon. Participez au concours de l’Association pour la Valorisation du Patrimoine Cartusien afin de gagner de mystérieux cadeaux ! \n— \nInformations pratiques \nTarif : Gratuit
URL:https://fetesdelachartreuse.fr/programme/exposition-et-jeu-concours-les-haberts-temoins-de-lactivite-pastorale-des-chartreux/
LOCATION:Parking des Caves de la Chartreuse\, 10 Bd Edgar Kofler\, Voiron\, 38500\, France
CATEGORIES:Concours, défi, compétition,Exposition
ATTACH;FMTTYPE=image/jpeg:https://fetesdelachartreuse.fr/wp-content/uploads/2026/04/Visuel-FDLC.jpg
END:VEVENT
BEGIN:VEVENT
DTSTART;TZID=Europe/Paris:20260516T180000
DTEND;TZID=Europe/Paris:20260516T190000
DTSTAMP:20260421T195833
CREATED:20260409T144924Z
LAST-MODIFIED:20260413T131702Z
UID:19647-1778954400-1778958000@fetesdelachartreuse.fr
SUMMARY:Remise des prix
DESCRIPTION:Concours d’affiche\, de photographie\, de vitrines des commerçants… \n— \nInformations pratiques \nTarif : Gratuit
URL:https://fetesdelachartreuse.fr/programme/remise-des-prix-2/
LOCATION:Parking des Caves de la Chartreuse\, 10 Bd Edgar Kofler\, Voiron\, 38500\, France
CATEGORIES:Concours, défi, compétition
ATTACH;FMTTYPE=image/jpeg:https://fetesdelachartreuse.fr/wp-content/uploads/2026/04/Visuel-FDLC.jpg
END:VEVENT
END:VCALENDAR