BEGIN:VCALENDAR
VERSION:2.0
PRODID:-//Fêtes de la Chartreuse - ECPv6.15.18//NONSGML v1.0//EN
CALSCALE:GREGORIAN
METHOD:PUBLISH
X-ORIGINAL-URL:https://fetesdelachartreuse.fr
X-WR-CALDESC:Évènements pour Fêtes de la Chartreuse
REFRESH-INTERVAL;VALUE=DURATION:PT1H
X-Robots-Tag:noindex
X-PUBLISHED-TTL:PT1H
BEGIN:VTIMEZONE
TZID:Europe/Paris
BEGIN:DAYLIGHT
TZOFFSETFROM:+0100
TZOFFSETTO:+0200
TZNAME:CEST
DTSTART:20250330T010000
END:DAYLIGHT
BEGIN:STANDARD
TZOFFSETFROM:+0200
TZOFFSETTO:+0100
TZNAME:CET
DTSTART:20251026T010000
END:STANDARD
BEGIN:DAYLIGHT
TZOFFSETFROM:+0100
TZOFFSETTO:+0200
TZNAME:CEST
DTSTART:20260329T010000
END:DAYLIGHT
BEGIN:STANDARD
TZOFFSETFROM:+0200
TZOFFSETTO:+0100
TZNAME:CET
DTSTART:20261025T010000
END:STANDARD
BEGIN:DAYLIGHT
TZOFFSETFROM:+0100
TZOFFSETTO:+0200
TZNAME:CEST
DTSTART:20270328T010000
END:DAYLIGHT
BEGIN:STANDARD
TZOFFSETFROM:+0200
TZOFFSETTO:+0100
TZNAME:CET
DTSTART:20271031T010000
END:STANDARD
END:VTIMEZONE
BEGIN:VEVENT
DTSTART;TZID=Europe/Paris:20260513T140000
DTEND;TZID=Europe/Paris:20260513T170000
DTSTAMP:20260421T194343
CREATED:20260409T091012Z
LAST-MODIFIED:20260413T131707Z
UID:19449-1778680800-1778691600@fetesdelachartreuse.fr
SUMMARY:Espace Artisanat : Artisanat d’hier et d’aujourd’hui !
DESCRIPTION:De commune en commune\, découvrez des savoir-faire ancestraux qui ont traversé les âges jusqu’à nos jours. Entre démonstrations\, initiations et ateliers\, reconnectez-vous à des métiers qui font la fierté du territoire : sculpture ou tournage sur bois\, céramique\, travail du cuir\, mosaïque\, vannerie… \n\nCéramique : modelage de petits animaux totems et bougeoirs fantaisies ;\nForge : démonstration et initiation à la forge ;  \nCuir : création d’un porte-clé en cuir ;  \nVitrail : création d’un vitrail collaboratif d’une centaine de pièces.\n\n— \nInformations pratiques \nTarif : Gratuit
URL:https://fetesdelachartreuse.fr/programme/espace-artisanat-artisanat-dhier-et-daujourdhui/
LOCATION:Parc de la Mairie de Saint-Laurent-du-Pont\, Parc de la mairie\, Saint-Laurent-du-Pont
CATEGORIES:Atelier,Espace Artisanat
ATTACH;FMTTYPE=image/jpeg:https://fetesdelachartreuse.fr/wp-content/uploads/2026/04/Visuel-FDLC.jpg
END:VEVENT
END:VCALENDAR