BEGIN:VCALENDAR
VERSION:2.0
PRODID:-//Fêtes de la Chartreuse - ECPv6.15.18//NONSGML v1.0//EN
CALSCALE:GREGORIAN
METHOD:PUBLISH
X-WR-CALNAME:Fêtes de la Chartreuse
X-ORIGINAL-URL:https://fetesdelachartreuse.fr
X-WR-CALDESC:Évènements pour Fêtes de la Chartreuse
REFRESH-INTERVAL;VALUE=DURATION:PT1H
X-Robots-Tag:noindex
X-PUBLISHED-TTL:PT1H
BEGIN:VTIMEZONE
TZID:Europe/Paris
BEGIN:DAYLIGHT
TZOFFSETFROM:+0100
TZOFFSETTO:+0200
TZNAME:CEST
DTSTART:20250330T010000
END:DAYLIGHT
BEGIN:STANDARD
TZOFFSETFROM:+0200
TZOFFSETTO:+0100
TZNAME:CET
DTSTART:20251026T010000
END:STANDARD
BEGIN:DAYLIGHT
TZOFFSETFROM:+0100
TZOFFSETTO:+0200
TZNAME:CEST
DTSTART:20260329T010000
END:DAYLIGHT
BEGIN:STANDARD
TZOFFSETFROM:+0200
TZOFFSETTO:+0100
TZNAME:CET
DTSTART:20261025T010000
END:STANDARD
BEGIN:DAYLIGHT
TZOFFSETFROM:+0100
TZOFFSETTO:+0200
TZNAME:CEST
DTSTART:20270328T010000
END:DAYLIGHT
BEGIN:STANDARD
TZOFFSETFROM:+0200
TZOFFSETTO:+0100
TZNAME:CET
DTSTART:20271031T010000
END:STANDARD
END:VTIMEZONE
BEGIN:VEVENT
DTSTART;TZID=Europe/Paris:20260516T100000
DTEND;TZID=Europe/Paris:20260517T180000
DTSTAMP:20260421T210215
CREATED:20260409T092415Z
LAST-MODIFIED:20260413T131703Z
UID:19454-1778925600-1779040800@fetesdelachartreuse.fr
SUMMARY:Espace Artisanat : Artisanat d’hier et d’aujourd’hui !
DESCRIPTION:De commune en commune\, découvrez des savoir-faire ancestraux qui ont traversé les âges jusqu’à nos jours. Entre démonstrations\, initiations et ateliers\, reconnectez-vous à des métiers qui font la fierté du territoire : sculpture ou tournage sur bois\, céramique\, travail du cuir\, mosaïque\, vannerie… \n\n\n Initiation au métier de vitrailliste en confectionnant une œuvre collaborative avec Glassom Vitrail de 10h à 15h30 \n\n\nCréation d’accessoires «Fêtes de la Chartreuse» dès 16h \n\n\n— \nInformations pratiques \nTarif : Gratuit
URL:https://fetesdelachartreuse.fr/programme/espace-artisanat-artisanat-dhier-et-daujourdhui-3/
LOCATION:Parking des Caves de la Chartreuse\, 10 Bd Edgar Kofler\, Voiron\, 38500\, France
CATEGORIES:Atelier,Espace Artisanat
ATTACH;FMTTYPE=image/jpeg:https://fetesdelachartreuse.fr/wp-content/uploads/2026/04/Visuel-FDLC.jpg
END:VEVENT
BEGIN:VEVENT
DTSTART;TZID=Europe/Paris:20260516T180000
DTEND;TZID=Europe/Paris:20260516T190000
DTSTAMP:20260421T210215
CREATED:20260409T092300Z
LAST-MODIFIED:20260413T131702Z
UID:19453-1778954400-1778958000@fetesdelachartreuse.fr
SUMMARY:Espace Artisanat & animations familiales
DESCRIPTION:De commune en commune\, découvrez des savoir-faire ancestraux qui ont traversé les âges jusqu’à nos jours. Entre démonstrations\, initiations et ateliers\, reconnectez-vous à des métiers qui font la fierté du territoire : sculpture ou tournage sur bois\, céramique\, travail du cuir\, mosaïque\, vannerie… \n\n\nCéramique : atelier modelage de petits animaux totems et bougeoirs fantaisies \n\n\nBois : atelier sculpture au couteau \n\n\nBois : atelier création d’un porte-clé en bois \n\n\nAnimations : Construction de cabanes\, jeux en bois \, maquillage\, déambulation de mascottes. \n\n\n— \nInformations pratiques \nTarif : Gratuit
URL:https://fetesdelachartreuse.fr/programme/espace-artisanat-animations-familiales/
LOCATION:Place Général Leclerc\, Place Général Leclerc\, Voiron\, -\, 38500\, France
CATEGORIES:Animation,Atelier,Déambulation,Espace Artisanat,Jeu, activité jeune
ATTACH;FMTTYPE=image/jpeg:https://fetesdelachartreuse.fr/wp-content/uploads/2026/04/Visuel-FDLC.jpg
END:VEVENT
END:VCALENDAR