BEGIN:VCALENDAR
VERSION:2.0
PRODID:-//Fêtes de la Chartreuse - ECPv6.15.18//NONSGML v1.0//EN
CALSCALE:GREGORIAN
METHOD:PUBLISH
X-ORIGINAL-URL:https://fetesdelachartreuse.fr
X-WR-CALDESC:Évènements pour Fêtes de la Chartreuse
REFRESH-INTERVAL;VALUE=DURATION:PT1H
X-Robots-Tag:noindex
X-PUBLISHED-TTL:PT1H
BEGIN:VTIMEZONE
TZID:Europe/Paris
BEGIN:DAYLIGHT
TZOFFSETFROM:+0100
TZOFFSETTO:+0200
TZNAME:CEST
DTSTART:20250330T010000
END:DAYLIGHT
BEGIN:STANDARD
TZOFFSETFROM:+0200
TZOFFSETTO:+0100
TZNAME:CET
DTSTART:20251026T010000
END:STANDARD
BEGIN:DAYLIGHT
TZOFFSETFROM:+0100
TZOFFSETTO:+0200
TZNAME:CEST
DTSTART:20260329T010000
END:DAYLIGHT
BEGIN:STANDARD
TZOFFSETFROM:+0200
TZOFFSETTO:+0100
TZNAME:CET
DTSTART:20261025T010000
END:STANDARD
BEGIN:DAYLIGHT
TZOFFSETFROM:+0100
TZOFFSETTO:+0200
TZNAME:CEST
DTSTART:20270328T010000
END:DAYLIGHT
BEGIN:STANDARD
TZOFFSETFROM:+0200
TZOFFSETTO:+0100
TZNAME:CET
DTSTART:20271031T010000
END:STANDARD
END:VTIMEZONE
BEGIN:VEVENT
DTSTART;TZID=Europe/Paris:20260513T140000
DTEND;TZID=Europe/Paris:20260513T180000
DTSTAMP:20260421T195522
CREATED:20260409T090549Z
LAST-MODIFIED:20260413T131707Z
UID:19447-1778680800-1778695200@fetesdelachartreuse.fr
SUMMARY:Animations\, musique & convivialité
DESCRIPTION:Tout au long de l’après-midi\, l’école de musique vous fait profiter de chants\, notes de guitare\, de trompette ou de piano. \nFoodtruck La Gaufre Liégeoise et buvette tenue par le Chartreuse Rugby Club. Interviews et reportages par Radio Couleur Chartreuse\, en duplex des Fêtes. \n— \nInformations pratiques \nTarif : Gratuit
URL:https://fetesdelachartreuse.fr/programme/animations-musique-convivialite/
LOCATION:Parc de la Mairie de Saint-Laurent-du-Pont\, Parc de la mairie\, Saint-Laurent-du-Pont
CATEGORIES:Animation,Bal, concert, musique,Restauration, banquet
ATTACH;FMTTYPE=image/jpeg:https://fetesdelachartreuse.fr/wp-content/uploads/2026/04/Visuel-FDLC.jpg
END:VEVENT
BEGIN:VEVENT
DTSTART;TZID=Europe/Paris:20260515T160000
DTEND;TZID=Europe/Paris:20260515T200000
DTSTAMP:20260421T195522
CREATED:20260409T131601Z
LAST-MODIFIED:20260413T131704Z
UID:19577-1778860800-1778875200@fetesdelachartreuse.fr
SUMMARY:Food trucks
DESCRIPTION:Vous pourrez vous restaurer et/ou vous désaltérer avec les « Saveurs Cambodgiennes »\, « Zaza cook »\, « l’Antre 2 bières » et les pizzas de Vincent. \n— \nInformations pratiques \nTarif : Gratuit
URL:https://fetesdelachartreuse.fr/programme/food-trucks/
LOCATION:Halle d’Entre-Deux-Guiers\, Place de la Halle\, Entre-Deux-Guiers\, 38380\, France
CATEGORIES:Restauration, banquet
ATTACH;FMTTYPE=image/jpeg:https://fetesdelachartreuse.fr/wp-content/uploads/2026/04/Visuel-FDLC.jpg
END:VEVENT
BEGIN:VEVENT
DTSTART;TZID=Europe/Paris:20260516T183000
DTEND;TZID=Europe/Paris:20260516T220000
DTSTAMP:20260421T195522
CREATED:20260409T145439Z
LAST-MODIFIED:20260413T131702Z
UID:19651-1778956200-1778968800@fetesdelachartreuse.fr
SUMMARY:Banquet Populaire
DESCRIPTION:Des stands de restauration proposeront des plats pour vous régaler. Retrouvez également des animations musicales et festives !
URL:https://fetesdelachartreuse.fr/programme/banquet-populaire/
LOCATION:Mail Sud\, Mail\, Voiron\, 38500\, France
CATEGORIES:Restauration, banquet
ATTACH;FMTTYPE=image/jpeg:https://fetesdelachartreuse.fr/wp-content/uploads/2026/04/Visuel-FDLC.jpg
END:VEVENT
BEGIN:VEVENT
DTSTART;TZID=Europe/Paris:20260517T113000
DTEND;TZID=Europe/Paris:20260517T130000
DTSTAMP:20260421T195522
CREATED:20260410T124227Z
LAST-MODIFIED:20260413T131701Z
UID:19773-1779017400-1779022800@fetesdelachartreuse.fr
SUMMARY:Démarrage du four à pain communal
DESCRIPTION:Allumage et démonstration de l’utilisation d’un four à pain en plein air. Proposé par l’association « Les Fours Chartroussins ». \n— \nInformations pratiques \nTarif : Gratuit
URL:https://fetesdelachartreuse.fr/programme/demarrage-du-four-a-pain-communal/
LOCATION:Jardin du Père Truffaut\, Jardin du Père Truffaut\, Saint-Pierre-de-Chartreuse\, 38380\, France
CATEGORIES:Démonstration,Restauration, banquet
ATTACH;FMTTYPE=image/jpeg:https://fetesdelachartreuse.fr/wp-content/uploads/2026/04/Four-a-pain-scaled.jpg
END:VEVENT
BEGIN:VEVENT
DTSTART;TZID=Europe/Paris:20260517T123000
DTEND;TZID=Europe/Paris:20260517T140000
DTSTAMP:20260421T195522
CREATED:20260410T124410Z
LAST-MODIFIED:20260413T131701Z
UID:19774-1779021000-1779026400@fetesdelachartreuse.fr
SUMMARY:Repas\, temps musical\, cocktail des Fêtes
DESCRIPTION:Animation musicale pendant la dégustation des pizzas préparées avec le four à pain\, avec distribution du Grand Duc. \n— \nInformations pratiques \nTarif : Gratuit (hors prix d’achat des pizzas)
URL:https://fetesdelachartreuse.fr/programme/repas-temps-musical-cocktail-des-fetes/
LOCATION:Jardin du Père Truffaut\, Jardin du Père Truffaut\, Saint-Pierre-de-Chartreuse\, 38380\, France
CATEGORIES:Bal, concert, musique,Restauration, banquet
ATTACH;FMTTYPE=image/jpeg:https://fetesdelachartreuse.fr/wp-content/uploads/2026/04/Visuel-FDLC.jpg
END:VEVENT
END:VCALENDAR