BEGIN:VCALENDAR
VERSION:2.0
PRODID:-//Fêtes de la Chartreuse - ECPv6.15.18//NONSGML v1.0//EN
CALSCALE:GREGORIAN
METHOD:PUBLISH
X-WR-CALNAME:Fêtes de la Chartreuse
X-ORIGINAL-URL:https://fetesdelachartreuse.fr
X-WR-CALDESC:Évènements pour Fêtes de la Chartreuse
REFRESH-INTERVAL;VALUE=DURATION:PT1H
X-Robots-Tag:noindex
X-PUBLISHED-TTL:PT1H
BEGIN:VTIMEZONE
TZID:Europe/Paris
BEGIN:DAYLIGHT
TZOFFSETFROM:+0100
TZOFFSETTO:+0200
TZNAME:CEST
DTSTART:20250330T010000
END:DAYLIGHT
BEGIN:STANDARD
TZOFFSETFROM:+0200
TZOFFSETTO:+0100
TZNAME:CET
DTSTART:20251026T010000
END:STANDARD
BEGIN:DAYLIGHT
TZOFFSETFROM:+0100
TZOFFSETTO:+0200
TZNAME:CEST
DTSTART:20260329T010000
END:DAYLIGHT
BEGIN:STANDARD
TZOFFSETFROM:+0200
TZOFFSETTO:+0100
TZNAME:CET
DTSTART:20261025T010000
END:STANDARD
BEGIN:DAYLIGHT
TZOFFSETFROM:+0100
TZOFFSETTO:+0200
TZNAME:CEST
DTSTART:20270328T010000
END:DAYLIGHT
BEGIN:STANDARD
TZOFFSETFROM:+0200
TZOFFSETTO:+0100
TZNAME:CET
DTSTART:20271031T010000
END:STANDARD
END:VTIMEZONE
BEGIN:VEVENT
DTSTART;TZID=Europe/Paris:20260513T093000
DTEND;TZID=Europe/Paris:20260513T174500
DTSTAMP:20260421T152258
CREATED:20260409T090045Z
LAST-MODIFIED:20260413T140651Z
UID:19440-1778664600-1778694300@fetesdelachartreuse.fr
SUMMARY:Découverte du métier de Chocolatier
DESCRIPTION:Au cours de ce moment\, vous allez apprendre (en images) comment se fabrique le chocolat\, de la fève à la tablette de chocolat. Vous pourrez découvrir les secrets de fabrication de nos produits 100 % faits maison. Et enfin\, quoi de mieux qu’une dégustation pour apprécier pleinement la subtilité et la complexité du chocolat ? \n— \nInformations pratiques \nTarif : 5€ \nInscription / Réservation : chocolatschappa.fr \n— \nÀ savoir \nHoraires : 9h30\, 10h45\, 14h30 et 17h (45 min)
URL:https://fetesdelachartreuse.fr/programme/decouverte-du-metier-de-chocolatier/
LOCATION:Chocolaterie Chappaz\, 2 Pl. Aristide Briand\, Saint-Laurent-du-Pont\, 38380
CATEGORIES:Atelier,Visite, balade
ATTACH;FMTTYPE=image/jpeg:https://fetesdelachartreuse.fr/wp-content/uploads/2026/04/FDLC2026.SLDP_Chocolat_chappaz.jpg
END:VEVENT
END:VCALENDAR