BEGIN:VCALENDAR
VERSION:2.0
PRODID:-//Fêtes de la Chartreuse - ECPv6.15.18//NONSGML v1.0//EN
CALSCALE:GREGORIAN
METHOD:PUBLISH
X-WR-CALNAME:Fêtes de la Chartreuse
X-ORIGINAL-URL:https://fetesdelachartreuse.fr
X-WR-CALDESC:Évènements pour Fêtes de la Chartreuse
REFRESH-INTERVAL;VALUE=DURATION:PT1H
X-Robots-Tag:noindex
X-PUBLISHED-TTL:PT1H
BEGIN:VTIMEZONE
TZID:Europe/Paris
BEGIN:DAYLIGHT
TZOFFSETFROM:+0100
TZOFFSETTO:+0200
TZNAME:CEST
DTSTART:20250330T010000
END:DAYLIGHT
BEGIN:STANDARD
TZOFFSETFROM:+0200
TZOFFSETTO:+0100
TZNAME:CET
DTSTART:20251026T010000
END:STANDARD
BEGIN:DAYLIGHT
TZOFFSETFROM:+0100
TZOFFSETTO:+0200
TZNAME:CEST
DTSTART:20260329T010000
END:DAYLIGHT
BEGIN:STANDARD
TZOFFSETFROM:+0200
TZOFFSETTO:+0100
TZNAME:CET
DTSTART:20261025T010000
END:STANDARD
BEGIN:DAYLIGHT
TZOFFSETFROM:+0100
TZOFFSETTO:+0200
TZNAME:CEST
DTSTART:20270328T010000
END:DAYLIGHT
BEGIN:STANDARD
TZOFFSETFROM:+0200
TZOFFSETTO:+0100
TZNAME:CET
DTSTART:20271031T010000
END:STANDARD
END:VTIMEZONE
BEGIN:VEVENT
DTSTART;TZID=Europe/Paris:20260514T140000
DTEND;TZID=Europe/Paris:20260517T180000
DTSTAMP:20260421T152447
CREATED:20260408T170220Z
LAST-MODIFIED:20260413T131706Z
UID:19416-1778767200-1779040800@fetesdelachartreuse.fr
SUMMARY:Exposition temporaire « Arcabas\, Art Sacré Monumental »
DESCRIPTION:Arcabas\, peintre de renom\, a réalisé près de 6 000 œuvres\, dont de grandes fresques pour l’église Saint-Hugues-de-Chartreuse\, la basilique Notre-Dame de la Salette\, l’église Notre-Dame des Neiges à l’Alpe d’Huez et la basilique du Sacré-Cœur de Grenoble. Cette exposition célèbre son centenaire et met en lumière cette partie majeure de sa création. \n— \nInformations pratiques \nTarif : Compris dans le billet d’entrée
URL:https://fetesdelachartreuse.fr/programme/exposition-temporaire-arcabas-art-sacre-monumental/
LOCATION:Musée de la Grande Chartreuse\, 670 route du désert\, Saint-Pierre-de-Chartreuse\, 38380\, France
CATEGORIES:Exposition
ATTACH;FMTTYPE=image/jpeg:https://fetesdelachartreuse.fr/wp-content/uploads/2026/04/Arcabas-scaled.jpg
END:VEVENT
END:VCALENDAR