BEGIN:VCALENDAR
VERSION:2.0
PRODID:-//Fêtes de la Chartreuse - ECPv6.15.18//NONSGML v1.0//EN
CALSCALE:GREGORIAN
METHOD:PUBLISH
X-WR-CALNAME:Fêtes de la Chartreuse
X-ORIGINAL-URL:https://fetesdelachartreuse.fr
X-WR-CALDESC:Évènements pour Fêtes de la Chartreuse
REFRESH-INTERVAL;VALUE=DURATION:PT1H
X-Robots-Tag:noindex
X-PUBLISHED-TTL:PT1H
BEGIN:VTIMEZONE
TZID:Europe/Paris
BEGIN:DAYLIGHT
TZOFFSETFROM:+0100
TZOFFSETTO:+0200
TZNAME:CEST
DTSTART:20250330T010000
END:DAYLIGHT
BEGIN:STANDARD
TZOFFSETFROM:+0200
TZOFFSETTO:+0100
TZNAME:CET
DTSTART:20251026T010000
END:STANDARD
BEGIN:DAYLIGHT
TZOFFSETFROM:+0100
TZOFFSETTO:+0200
TZNAME:CEST
DTSTART:20260329T010000
END:DAYLIGHT
BEGIN:STANDARD
TZOFFSETFROM:+0200
TZOFFSETTO:+0100
TZNAME:CET
DTSTART:20261025T010000
END:STANDARD
BEGIN:DAYLIGHT
TZOFFSETFROM:+0100
TZOFFSETTO:+0200
TZNAME:CEST
DTSTART:20270328T010000
END:DAYLIGHT
BEGIN:STANDARD
TZOFFSETFROM:+0200
TZOFFSETTO:+0100
TZNAME:CET
DTSTART:20271031T010000
END:STANDARD
END:VTIMEZONE
BEGIN:VEVENT
DTSTART;TZID=Europe/Paris:20260516T100000
DTEND;TZID=Europe/Paris:20260517T170000
DTSTAMP:20260421T165728
CREATED:20260410T092057Z
LAST-MODIFIED:20260413T131704Z
UID:19653-1778925600-1779037200@fetesdelachartreuse.fr
SUMMARY:Expositions sur les Chartreuses de Marseille et Vauvert
DESCRIPTION:Découvrez ce qui lie les chartreux à Paris et Marseille. C’est l’histoire en 1257 du premier monastère urbain\, berceau de leurs savoirs arboricoles\, herboristes et apothicaires\, où sera confié le manuscrit de 1605. Puis celle d’une distillerie en cité phocéenne qui accueillit les moines à leur retour d’exil en 1921. \n— \nInformations pratiques \nTarif : Gratuit
URL:https://fetesdelachartreuse.fr/programme/expositions-sur-les-chartreuses-de-marseille-et-vauvert/
LOCATION:Parking des Caves de la Chartreuse\, 10 Bd Edgar Kofler\, Voiron\, 38500\, France
CATEGORIES:Exposition
ATTACH;FMTTYPE=image/jpeg:https://fetesdelachartreuse.fr/wp-content/uploads/2026/04/VOIRON_Exposition_Paris_Vauvert©Adam_Perelle_Nicolas_Langlois-Musees_Paris_Musee_Carnavalet_OK-scaled.jpg
END:VEVENT
END:VCALENDAR