BEGIN:VCALENDAR
VERSION:2.0
PRODID:-//Fêtes de la Chartreuse - ECPv6.15.18//NONSGML v1.0//EN
CALSCALE:GREGORIAN
METHOD:PUBLISH
X-WR-CALNAME:Fêtes de la Chartreuse
X-ORIGINAL-URL:https://fetesdelachartreuse.fr
X-WR-CALDESC:Évènements pour Fêtes de la Chartreuse
REFRESH-INTERVAL;VALUE=DURATION:PT1H
X-Robots-Tag:noindex
X-PUBLISHED-TTL:PT1H
BEGIN:VTIMEZONE
TZID:Europe/Paris
BEGIN:DAYLIGHT
TZOFFSETFROM:+0100
TZOFFSETTO:+0200
TZNAME:CEST
DTSTART:20250330T010000
END:DAYLIGHT
BEGIN:STANDARD
TZOFFSETFROM:+0200
TZOFFSETTO:+0100
TZNAME:CET
DTSTART:20251026T010000
END:STANDARD
BEGIN:DAYLIGHT
TZOFFSETFROM:+0100
TZOFFSETTO:+0200
TZNAME:CEST
DTSTART:20260329T010000
END:DAYLIGHT
BEGIN:STANDARD
TZOFFSETFROM:+0200
TZOFFSETTO:+0100
TZNAME:CET
DTSTART:20261025T010000
END:STANDARD
BEGIN:DAYLIGHT
TZOFFSETFROM:+0100
TZOFFSETTO:+0200
TZNAME:CEST
DTSTART:20270328T010000
END:DAYLIGHT
BEGIN:STANDARD
TZOFFSETFROM:+0200
TZOFFSETTO:+0100
TZNAME:CET
DTSTART:20271031T010000
END:STANDARD
END:VTIMEZONE
BEGIN:VEVENT
DTSTART;TZID=Europe/Paris:20260517T084500
DTEND;TZID=Europe/Paris:20260517T111500
DTSTAMP:20260421T165615
CREATED:20260410T123230Z
LAST-MODIFIED:20260413T131701Z
UID:19770-1779007500-1779016500@fetesdelachartreuse.fr
SUMMARY:Randonnée « Art et Patrimoine »
DESCRIPTION:Randonnée sur les sentiers artistiques et patrimoniaux : sculpture\, chapelle\, maison des douaniers\, atelier d’art… \n— \nInformations pratiques \nTarif : Gratuit \nInscription / Réservation : par mail à accueil@saintpierredechartreuse.fr avant le 14 mai 2026 \nPublic : À partir de 12 ans \n— \nÀ savoir \nDépart du parking du Musée de la Grande Chartreuse (au pied de la sculpture d’Emy Wood) \n 
URL:https://fetesdelachartreuse.fr/programme/randonnee-art-et-patrimoine/
LOCATION:Musée de la Grande Chartreuse\, 670 route du désert\, Saint-Pierre-de-Chartreuse\, 38380\, France
CATEGORIES:Visite, balade
ATTACH;FMTTYPE=image/jpeg:https://fetesdelachartreuse.fr/wp-content/uploads/2026/04/SANY0167-1024x768-1.jpg
END:VEVENT
END:VCALENDAR