BEGIN:VCALENDAR
VERSION:2.0
PRODID:-//Fêtes de la Chartreuse - ECPv6.15.18//NONSGML v1.0//EN
CALSCALE:GREGORIAN
METHOD:PUBLISH
X-WR-CALNAME:Fêtes de la Chartreuse
X-ORIGINAL-URL:https://fetesdelachartreuse.fr
X-WR-CALDESC:Évènements pour Fêtes de la Chartreuse
REFRESH-INTERVAL;VALUE=DURATION:PT1H
X-Robots-Tag:noindex
X-PUBLISHED-TTL:PT1H
BEGIN:VTIMEZONE
TZID:Europe/Paris
BEGIN:DAYLIGHT
TZOFFSETFROM:+0100
TZOFFSETTO:+0200
TZNAME:CEST
DTSTART:20250330T010000
END:DAYLIGHT
BEGIN:STANDARD
TZOFFSETFROM:+0200
TZOFFSETTO:+0100
TZNAME:CET
DTSTART:20251026T010000
END:STANDARD
BEGIN:DAYLIGHT
TZOFFSETFROM:+0100
TZOFFSETTO:+0200
TZNAME:CEST
DTSTART:20260329T010000
END:DAYLIGHT
BEGIN:STANDARD
TZOFFSETFROM:+0200
TZOFFSETTO:+0100
TZNAME:CET
DTSTART:20261025T010000
END:STANDARD
BEGIN:DAYLIGHT
TZOFFSETFROM:+0100
TZOFFSETTO:+0200
TZNAME:CEST
DTSTART:20270328T010000
END:DAYLIGHT
BEGIN:STANDARD
TZOFFSETFROM:+0200
TZOFFSETTO:+0100
TZNAME:CET
DTSTART:20271031T010000
END:STANDARD
END:VTIMEZONE
BEGIN:VEVENT
DTSTART;TZID=Europe/Paris:20260516T133000
DTEND;TZID=Europe/Paris:20260516T170000
DTSTAMP:20260421T165428
CREATED:20260410T103134Z
LAST-MODIFIED:20260413T131703Z
UID:19730-1778938200-1778950800@fetesdelachartreuse.fr
SUMMARY:Visite de Fourvoirie
DESCRIPTION:Visite de l’ancienne distillerie : histoire du site et 20 ans de restauration. Accueil et animation autour du conte par l’Office de Tourisme Cœur de Chartreuse. \n— \nInformations pratiques \nTarif : Au chapeau\, participation libre \n— \nÀ savoir \nVisite par petits groupes\, prévoir de bonnes chaussures. \n 
URL:https://fetesdelachartreuse.fr/programme/visite-de-fourvoirie/
LOCATION:Ancienne distillerie de Fourvoirie\, 1554 route de Fourvoirie\, Saint-Laurent-du-Pont\, 38380\, France
CATEGORIES:Visite, balade
ATTACH;FMTTYPE=image/jpeg:https://fetesdelachartreuse.fr/wp-content/uploads/2026/04/VisiteFourvoirie-17-scaled.jpg
END:VEVENT
END:VCALENDAR