BEGIN:VCALENDAR
VERSION:2.0
PRODID:-//Fêtes de la Chartreuse - ECPv6.15.18//NONSGML v1.0//EN
CALSCALE:GREGORIAN
METHOD:PUBLISH
X-WR-CALNAME:Fêtes de la Chartreuse
X-ORIGINAL-URL:https://fetesdelachartreuse.fr
X-WR-CALDESC:Évènements pour Fêtes de la Chartreuse
REFRESH-INTERVAL;VALUE=DURATION:PT1H
X-Robots-Tag:noindex
X-PUBLISHED-TTL:PT1H
BEGIN:VTIMEZONE
TZID:Europe/Paris
BEGIN:DAYLIGHT
TZOFFSETFROM:+0100
TZOFFSETTO:+0200
TZNAME:CEST
DTSTART:20250330T010000
END:DAYLIGHT
BEGIN:STANDARD
TZOFFSETFROM:+0200
TZOFFSETTO:+0100
TZNAME:CET
DTSTART:20251026T010000
END:STANDARD
BEGIN:DAYLIGHT
TZOFFSETFROM:+0100
TZOFFSETTO:+0200
TZNAME:CEST
DTSTART:20260329T010000
END:DAYLIGHT
BEGIN:STANDARD
TZOFFSETFROM:+0200
TZOFFSETTO:+0100
TZNAME:CET
DTSTART:20261025T010000
END:STANDARD
BEGIN:DAYLIGHT
TZOFFSETFROM:+0100
TZOFFSETTO:+0200
TZNAME:CEST
DTSTART:20270328T010000
END:DAYLIGHT
BEGIN:STANDARD
TZOFFSETFROM:+0200
TZOFFSETTO:+0100
TZNAME:CET
DTSTART:20271031T010000
END:STANDARD
END:VTIMEZONE
BEGIN:VEVENT
DTSTART;TZID=Europe/Paris:20260517T100000
DTEND;TZID=Europe/Paris:20260517T171500
DTSTAMP:20260421T165554
CREATED:20260410T110357Z
LAST-MODIFIED:20260414T091552Z
UID:19763-1779012000-1779038100@fetesdelachartreuse.fr
SUMMARY:Visite de la forêt vitrine Sylv’acctes
DESCRIPTION:Approchez le patrimoine naturel d’Aiguenoire à travers une balade commentée de la forêt vitrine. En prenant de la hauteur\, découvrez les enjeux de la gestion forestière et les métiers de la forêt. \n— \nInformations pratiques \nTarif : 5€* \nInscription / Réservation : https://www.chartreuse.fr/fetes-de-la-chartreuse-2026 \n— \nÀ savoir \nHoraires : 16 et 17 mai\, 10h\, 13h15 et 15h45 \nVisite non accessible aux personnes en difficulté de déplacement. Tenue et chaussures de marche obligatoires.Bâtons de marche recommandés selon les conditions météorologiques. Visite du site de production des liqueurs Chartreuse® non comprise. \n*Les fonds recueillis seront reversés à l’Association pour la Valorisation du Patrimoine Cartusien chargée de la réhabilitation du patrimoine bâti de l’Ordre des chartreux
URL:https://fetesdelachartreuse.fr/programme/visite-de-la-foret-vitrine-sylvacctes-4/
LOCATION:Site de production Chartreuse Aiguenoire\, 1271 route de Berland\, Entre-Deux-Guiers\, 38380\, France
CATEGORIES:Visite, balade
ATTACH;FMTTYPE=image/jpeg:https://fetesdelachartreuse.fr/wp-content/uploads/2026/04/Visite-sentier-SylvAcctes©Pascal-Flamant-scaled.jpg
END:VEVENT
END:VCALENDAR