BEGIN:VCALENDAR
VERSION:2.0
PRODID:-//Fêtes de la Chartreuse - ECPv6.15.18//NONSGML v1.0//EN
CALSCALE:GREGORIAN
METHOD:PUBLISH
X-WR-CALNAME:Fêtes de la Chartreuse
X-ORIGINAL-URL:https://fetesdelachartreuse.fr
X-WR-CALDESC:Évènements pour Fêtes de la Chartreuse
REFRESH-INTERVAL;VALUE=DURATION:PT1H
X-Robots-Tag:noindex
X-PUBLISHED-TTL:PT1H
BEGIN:VTIMEZONE
TZID:Europe/Paris
BEGIN:DAYLIGHT
TZOFFSETFROM:+0100
TZOFFSETTO:+0200
TZNAME:CEST
DTSTART:20250330T010000
END:DAYLIGHT
BEGIN:STANDARD
TZOFFSETFROM:+0200
TZOFFSETTO:+0100
TZNAME:CET
DTSTART:20251026T010000
END:STANDARD
BEGIN:DAYLIGHT
TZOFFSETFROM:+0100
TZOFFSETTO:+0200
TZNAME:CEST
DTSTART:20260329T010000
END:DAYLIGHT
BEGIN:STANDARD
TZOFFSETFROM:+0200
TZOFFSETTO:+0100
TZNAME:CET
DTSTART:20261025T010000
END:STANDARD
BEGIN:DAYLIGHT
TZOFFSETFROM:+0100
TZOFFSETTO:+0200
TZNAME:CEST
DTSTART:20270328T010000
END:DAYLIGHT
BEGIN:STANDARD
TZOFFSETFROM:+0200
TZOFFSETTO:+0100
TZNAME:CET
DTSTART:20271031T010000
END:STANDARD
END:VTIMEZONE
BEGIN:VEVENT
DTSTART;TZID=Europe/Paris:20260516T140000
DTEND;TZID=Europe/Paris:20260516T160000
DTSTAMP:20260421T165830
CREATED:20260410T103620Z
LAST-MODIFIED:20260421T142037Z
UID:19731-1778940000-1778947200@fetesdelachartreuse.fr
SUMMARY:Visite de la Tuilerie et de son patrimoine
DESCRIPTION:Avec un animateur nature et un passionné d’histoire\, venez découvrir le secteur de la Tuilerie\, son patrimoine naturel\, son histoire et son patrimoine bâti. \n— \nInformations pratiques \nTarif : Gratuit \nInscription / Réservation : https://www.chartreuse-tourisme.com/offres/fete-de-la-chartreuse-visite-de-la-tuilerie-et-de-son-patrimoine-saint-joseph-de-riviere-fr-4863307/ \nPublic : À partir de 8 ans \n— \nÀ savoir \nTourbières de l’Herretang\, parking de la Tuilerie\, fléché depuis St-Joseph-de-Rivière
URL:https://fetesdelachartreuse.fr/programme/visite-de-la-tuilerie-et-de-son-patrimoine/
LOCATION:Parking des Tourbières de l’Herretang\, Saint-Laurent-du-Pont\, 38380\, France
CATEGORIES:Visite, balade
ATTACH;FMTTYPE=image/jpeg:https://fetesdelachartreuse.fr/wp-content/uploads/2026/04/FDLC2026.SLDP_ENS-PHOTOV2-scaled.jpg
END:VEVENT
END:VCALENDAR